BEGIN:VCALENDAR
VERSION:2.0
PRODID:-//St Mary-at-Hill - ECPv6.10.2//NONSGML v1.0//EN
CALSCALE:GREGORIAN
METHOD:PUBLISH
X-WR-CALNAME:St Mary-at-Hill
X-ORIGINAL-URL:https://stmaryathill.org
X-WR-CALDESC:Events for St Mary-at-Hill
REFRESH-INTERVAL;VALUE=DURATION:PT1H
X-Robots-Tag:noindex
X-PUBLISHED-TTL:PT1H
BEGIN:VTIMEZONE
TZID:Europe/London
BEGIN:DAYLIGHT
TZOFFSETFROM:+0000
TZOFFSETTO:+0100
TZNAME:BST
DTSTART:20270328T010000
END:DAYLIGHT
BEGIN:STANDARD
TZOFFSETFROM:+0100
TZOFFSETTO:+0000
TZNAME:GMT
DTSTART:20271031T010000
END:STANDARD
END:VTIMEZONE
BEGIN:VEVENT
DTSTART;TZID=Europe/London:20270602T130000
DTEND;TZID=Europe/London:20270602T133000
DTSTAMP:20260424T091519
CREATED:20250305T125917Z
LAST-MODIFIED:20251217T170934Z
UID:10001388-1811941200-1811943000@stmaryathill.org
SUMMARY:Live Music Series
DESCRIPTION:Live music recital in association with Guildhall School.
URL:https://stmaryathill.org/event/live-music-series/2027-06-02/
ATTACH;FMTTYPE=image/jpeg:https://stmaryathill.org/wp-content/uploads/2025/03/Lot-10_Steinway-Sons-Grand-Piano_3.jpg
END:VEVENT
BEGIN:VEVENT
DTSTART;TZID=Europe/London:20270606T110000
DTEND;TZID=Europe/London:20270606T120000
DTSTAMP:20260424T091519
CREATED:20250818T183251Z
LAST-MODIFIED:20250818T183251Z
UID:10001140-1812279600-1812283200@stmaryathill.org
SUMMARY:Communion Service - Lutheran
DESCRIPTION:Lutheran Holy Communion service in English\, a time of fellowship and refreshments will follow the service. The service is livestreamed on Facebook: https://www.facebook.com/StAnnesLutheranChurch \nSt Anne’s Lutheran Church is based at St Mary-at-Hill Church\, Lovat Lane\, EC3R 8EB
URL:https://stmaryathill.org/event/communion-service-lutheran-2/2027-06-06/
LOCATION:St Mary-at-Hill Church\, Lovat Lane\, Eastcheap\, London\, EC3R 8EE\, United Kingdom
ATTACH;FMTTYPE=image/png:https://stmaryathill.org/wp-content/uploads/2025/05/SALC-Logo-e1747645026859.png
ORGANIZER;CN="St Anne's Lutheran Church":MAILTO:admin@stanneslutheranchurch.org.uk
END:VEVENT
BEGIN:VEVENT
DTSTART;TZID=Europe/London:20270607T131500
DTEND;TZID=Europe/London:20270607T140000
DTSTAMP:20260424T091519
CREATED:20240527T122507Z
LAST-MODIFIED:20251217T170651Z
UID:10001688-1812374100-1812376800@stmaryathill.org
SUMMARY:Holy Communion - Anglican
DESCRIPTION:A short service of Holy Communion takes place every Monday at 1.15pm where we pray and worship together.
URL:https://stmaryathill.org/event/holy-communion-2/2027-06-07/
LOCATION:St Mary-at-Hill Church\, Lovat Lane\, Eastcheap\, London\, EC3R 8EE\, United Kingdom
ATTACH;FMTTYPE=image/jpeg:https://stmaryathill.org/wp-content/uploads/2023/01/Stmarys-team-8-e1730987366516.jpg
ORGANIZER;CN="St Mary-at-Hill Church":MAILTO:admin@stmary-at-hill.org
END:VEVENT
BEGIN:VEVENT
DTSTART;TZID=Europe/London:20270609T130000
DTEND;TZID=Europe/London:20270609T133000
DTSTAMP:20260424T091519
CREATED:20250305T125917Z
LAST-MODIFIED:20251217T170934Z
UID:10001389-1812546000-1812547800@stmaryathill.org
SUMMARY:Live Music Series
DESCRIPTION:Live music recital in association with Guildhall School.
URL:https://stmaryathill.org/event/live-music-series/2027-06-09/
ATTACH;FMTTYPE=image/jpeg:https://stmaryathill.org/wp-content/uploads/2025/03/Lot-10_Steinway-Sons-Grand-Piano_3.jpg
END:VEVENT
BEGIN:VEVENT
DTSTART;TZID=Europe/London:20270613T110000
DTEND;TZID=Europe/London:20270613T120000
DTSTAMP:20260424T091519
CREATED:20250818T183251Z
LAST-MODIFIED:20250818T183251Z
UID:10001141-1812884400-1812888000@stmaryathill.org
SUMMARY:Communion Service - Lutheran
DESCRIPTION:Lutheran Holy Communion service in English\, a time of fellowship and refreshments will follow the service. The service is livestreamed on Facebook: https://www.facebook.com/StAnnesLutheranChurch \nSt Anne’s Lutheran Church is based at St Mary-at-Hill Church\, Lovat Lane\, EC3R 8EB
URL:https://stmaryathill.org/event/communion-service-lutheran-2/2027-06-13/
LOCATION:St Mary-at-Hill Church\, Lovat Lane\, Eastcheap\, London\, EC3R 8EE\, United Kingdom
ATTACH;FMTTYPE=image/png:https://stmaryathill.org/wp-content/uploads/2025/05/SALC-Logo-e1747645026859.png
ORGANIZER;CN="St Anne's Lutheran Church":MAILTO:admin@stanneslutheranchurch.org.uk
END:VEVENT
BEGIN:VEVENT
DTSTART;TZID=Europe/London:20270614T131500
DTEND;TZID=Europe/London:20270614T140000
DTSTAMP:20260424T091519
CREATED:20240527T122507Z
LAST-MODIFIED:20251217T170651Z
UID:10001689-1812978900-1812981600@stmaryathill.org
SUMMARY:Holy Communion - Anglican
DESCRIPTION:A short service of Holy Communion takes place every Monday at 1.15pm where we pray and worship together.
URL:https://stmaryathill.org/event/holy-communion-2/2027-06-14/
LOCATION:St Mary-at-Hill Church\, Lovat Lane\, Eastcheap\, London\, EC3R 8EE\, United Kingdom
ATTACH;FMTTYPE=image/jpeg:https://stmaryathill.org/wp-content/uploads/2023/01/Stmarys-team-8-e1730987366516.jpg
ORGANIZER;CN="St Mary-at-Hill Church":MAILTO:admin@stmary-at-hill.org
END:VEVENT
BEGIN:VEVENT
DTSTART;TZID=Europe/London:20270616T130000
DTEND;TZID=Europe/London:20270616T133000
DTSTAMP:20260424T091519
CREATED:20250305T125917Z
LAST-MODIFIED:20251217T170934Z
UID:10001390-1813150800-1813152600@stmaryathill.org
SUMMARY:Live Music Series
DESCRIPTION:Live music recital in association with Guildhall School.
URL:https://stmaryathill.org/event/live-music-series/2027-06-16/
ATTACH;FMTTYPE=image/jpeg:https://stmaryathill.org/wp-content/uploads/2025/03/Lot-10_Steinway-Sons-Grand-Piano_3.jpg
END:VEVENT
BEGIN:VEVENT
DTSTART;TZID=Europe/London:20270620T110000
DTEND;TZID=Europe/London:20270620T120000
DTSTAMP:20260424T091519
CREATED:20250818T183251Z
LAST-MODIFIED:20250818T183251Z
UID:10001142-1813489200-1813492800@stmaryathill.org
SUMMARY:Communion Service - Lutheran
DESCRIPTION:Lutheran Holy Communion service in English\, a time of fellowship and refreshments will follow the service. The service is livestreamed on Facebook: https://www.facebook.com/StAnnesLutheranChurch \nSt Anne’s Lutheran Church is based at St Mary-at-Hill Church\, Lovat Lane\, EC3R 8EB
URL:https://stmaryathill.org/event/communion-service-lutheran-2/2027-06-20/
LOCATION:St Mary-at-Hill Church\, Lovat Lane\, Eastcheap\, London\, EC3R 8EE\, United Kingdom
ATTACH;FMTTYPE=image/png:https://stmaryathill.org/wp-content/uploads/2025/05/SALC-Logo-e1747645026859.png
ORGANIZER;CN="St Anne's Lutheran Church":MAILTO:admin@stanneslutheranchurch.org.uk
END:VEVENT
BEGIN:VEVENT
DTSTART;TZID=Europe/London:20270621T131500
DTEND;TZID=Europe/London:20270621T140000
DTSTAMP:20260424T091519
CREATED:20240527T122507Z
LAST-MODIFIED:20251217T170651Z
UID:10001690-1813583700-1813586400@stmaryathill.org
SUMMARY:Holy Communion - Anglican
DESCRIPTION:A short service of Holy Communion takes place every Monday at 1.15pm where we pray and worship together.
URL:https://stmaryathill.org/event/holy-communion-2/2027-06-21/
LOCATION:St Mary-at-Hill Church\, Lovat Lane\, Eastcheap\, London\, EC3R 8EE\, United Kingdom
ATTACH;FMTTYPE=image/jpeg:https://stmaryathill.org/wp-content/uploads/2023/01/Stmarys-team-8-e1730987366516.jpg
ORGANIZER;CN="St Mary-at-Hill Church":MAILTO:admin@stmary-at-hill.org
END:VEVENT
BEGIN:VEVENT
DTSTART;TZID=Europe/London:20270623T130000
DTEND;TZID=Europe/London:20270623T133000
DTSTAMP:20260424T091519
CREATED:20250305T125917Z
LAST-MODIFIED:20251217T170934Z
UID:10001391-1813755600-1813757400@stmaryathill.org
SUMMARY:Live Music Series
DESCRIPTION:Live music recital in association with Guildhall School.
URL:https://stmaryathill.org/event/live-music-series/2027-06-23/
ATTACH;FMTTYPE=image/jpeg:https://stmaryathill.org/wp-content/uploads/2025/03/Lot-10_Steinway-Sons-Grand-Piano_3.jpg
END:VEVENT
BEGIN:VEVENT
DTSTART;TZID=Europe/London:20270627T110000
DTEND;TZID=Europe/London:20270627T120000
DTSTAMP:20260424T091519
CREATED:20250818T183251Z
LAST-MODIFIED:20250818T183251Z
UID:10001143-1814094000-1814097600@stmaryathill.org
SUMMARY:Communion Service - Lutheran
DESCRIPTION:Lutheran Holy Communion service in English\, a time of fellowship and refreshments will follow the service. The service is livestreamed on Facebook: https://www.facebook.com/StAnnesLutheranChurch \nSt Anne’s Lutheran Church is based at St Mary-at-Hill Church\, Lovat Lane\, EC3R 8EB
URL:https://stmaryathill.org/event/communion-service-lutheran-2/2027-06-27/
LOCATION:St Mary-at-Hill Church\, Lovat Lane\, Eastcheap\, London\, EC3R 8EE\, United Kingdom
ATTACH;FMTTYPE=image/png:https://stmaryathill.org/wp-content/uploads/2025/05/SALC-Logo-e1747645026859.png
ORGANIZER;CN="St Anne's Lutheran Church":MAILTO:admin@stanneslutheranchurch.org.uk
END:VEVENT
BEGIN:VEVENT
DTSTART;TZID=Europe/London:20270628T131500
DTEND;TZID=Europe/London:20270628T140000
DTSTAMP:20260424T091519
CREATED:20240527T122507Z
LAST-MODIFIED:20251217T170651Z
UID:10001691-1814188500-1814191200@stmaryathill.org
SUMMARY:Holy Communion - Anglican
DESCRIPTION:A short service of Holy Communion takes place every Monday at 1.15pm where we pray and worship together.
URL:https://stmaryathill.org/event/holy-communion-2/2027-06-28/
LOCATION:St Mary-at-Hill Church\, Lovat Lane\, Eastcheap\, London\, EC3R 8EE\, United Kingdom
ATTACH;FMTTYPE=image/jpeg:https://stmaryathill.org/wp-content/uploads/2023/01/Stmarys-team-8-e1730987366516.jpg
ORGANIZER;CN="St Mary-at-Hill Church":MAILTO:admin@stmary-at-hill.org
END:VEVENT
BEGIN:VEVENT
DTSTART;TZID=Europe/London:20270630T130000
DTEND;TZID=Europe/London:20270630T133000
DTSTAMP:20260424T091519
CREATED:20250305T125917Z
LAST-MODIFIED:20251217T170934Z
UID:10001392-1814360400-1814362200@stmaryathill.org
SUMMARY:Live Music Series
DESCRIPTION:Live music recital in association with Guildhall School.
URL:https://stmaryathill.org/event/live-music-series/2027-06-30/
ATTACH;FMTTYPE=image/jpeg:https://stmaryathill.org/wp-content/uploads/2025/03/Lot-10_Steinway-Sons-Grand-Piano_3.jpg
END:VEVENT
END:VCALENDAR