BEGIN:VCALENDAR
VERSION:2.0
PRODID:-//St Mary-at-Hill - ECPv6.10.2//NONSGML v1.0//EN
CALSCALE:GREGORIAN
METHOD:PUBLISH
X-ORIGINAL-URL:https://stmaryathill.org
X-WR-CALDESC:Events for St Mary-at-Hill
REFRESH-INTERVAL;VALUE=DURATION:PT1H
X-Robots-Tag:noindex
X-PUBLISHED-TTL:PT1H
BEGIN:VTIMEZONE
TZID:Europe/London
BEGIN:DAYLIGHT
TZOFFSETFROM:+0000
TZOFFSETTO:+0100
TZNAME:BST
DTSTART:20260329T010000
END:DAYLIGHT
BEGIN:STANDARD
TZOFFSETFROM:+0100
TZOFFSETTO:+0000
TZNAME:GMT
DTSTART:20261025T010000
END:STANDARD
END:VTIMEZONE
BEGIN:VEVENT
DTSTART;TZID=Europe/London:20260503T110000
DTEND;TZID=Europe/London:20260503T120000
DTSTAMP:20260423T144421
CREATED:20250818T183251Z
LAST-MODIFIED:20250818T183251Z
UID:10001083-1777806000-1777809600@stmaryathill.org
SUMMARY:Communion Service - Lutheran
DESCRIPTION:Lutheran Holy Communion service in English\, a time of fellowship and refreshments will follow the service. The service is livestreamed on Facebook: https://www.facebook.com/StAnnesLutheranChurch \nSt Anne’s Lutheran Church is based at St Mary-at-Hill Church\, Lovat Lane\, EC3R 8EB
URL:https://stmaryathill.org/event/communion-service-lutheran-2/2026-05-03/
LOCATION:St Mary-at-Hill Church\, Lovat Lane\, Eastcheap\, London\, EC3R 8EE\, United Kingdom
ATTACH;FMTTYPE=image/png:https://stmaryathill.org/wp-content/uploads/2025/05/SALC-Logo-e1747645026859.png
ORGANIZER;CN="St Anne's Lutheran Church":MAILTO:admin@stanneslutheranchurch.org.uk
END:VEVENT
BEGIN:VEVENT
DTSTART;TZID=Europe/London:20260504T131500
DTEND;TZID=Europe/London:20260504T140000
DTSTAMP:20260423T144421
CREATED:20240527T122507Z
LAST-MODIFIED:20251217T170651Z
UID:10001631-1777900500-1777903200@stmaryathill.org
SUMMARY:Holy Communion - Anglican
DESCRIPTION:A short service of Holy Communion takes place every Monday at 1.15pm where we pray and worship together.
URL:https://stmaryathill.org/event/holy-communion-2/2026-05-04/
LOCATION:St Mary-at-Hill Church\, Lovat Lane\, Eastcheap\, London\, EC3R 8EE\, United Kingdom
ATTACH;FMTTYPE=image/jpeg:https://stmaryathill.org/wp-content/uploads/2023/01/Stmarys-team-8-e1730987366516.jpg
ORGANIZER;CN="St Mary-at-Hill Church":MAILTO:admin@stmary-at-hill.org
END:VEVENT
BEGIN:VEVENT
DTSTART;TZID=Europe/London:20260506T130000
DTEND;TZID=Europe/London:20260506T133000
DTSTAMP:20260423T144421
CREATED:20250305T125917Z
LAST-MODIFIED:20251217T170934Z
UID:10001332-1778072400-1778074200@stmaryathill.org
SUMMARY:Live Music Series
DESCRIPTION:Live music recital in association with Guildhall School.
URL:https://stmaryathill.org/event/live-music-series/2026-05-06/
ATTACH;FMTTYPE=image/jpeg:https://stmaryathill.org/wp-content/uploads/2025/03/Lot-10_Steinway-Sons-Grand-Piano_3.jpg
END:VEVENT
BEGIN:VEVENT
DTSTART;TZID=Europe/London:20260510T110000
DTEND;TZID=Europe/London:20260510T120000
DTSTAMP:20260423T144421
CREATED:20250818T183251Z
LAST-MODIFIED:20250818T183251Z
UID:10001084-1778410800-1778414400@stmaryathill.org
SUMMARY:Communion Service - Lutheran
DESCRIPTION:Lutheran Holy Communion service in English\, a time of fellowship and refreshments will follow the service. The service is livestreamed on Facebook: https://www.facebook.com/StAnnesLutheranChurch \nSt Anne’s Lutheran Church is based at St Mary-at-Hill Church\, Lovat Lane\, EC3R 8EB
URL:https://stmaryathill.org/event/communion-service-lutheran-2/2026-05-10/
LOCATION:St Mary-at-Hill Church\, Lovat Lane\, Eastcheap\, London\, EC3R 8EE\, United Kingdom
ATTACH;FMTTYPE=image/png:https://stmaryathill.org/wp-content/uploads/2025/05/SALC-Logo-e1747645026859.png
ORGANIZER;CN="St Anne's Lutheran Church":MAILTO:admin@stanneslutheranchurch.org.uk
END:VEVENT
BEGIN:VEVENT
DTSTART;TZID=Europe/London:20260511T131500
DTEND;TZID=Europe/London:20260511T140000
DTSTAMP:20260423T144421
CREATED:20240527T122507Z
LAST-MODIFIED:20251217T170651Z
UID:10001632-1778505300-1778508000@stmaryathill.org
SUMMARY:Holy Communion - Anglican
DESCRIPTION:A short service of Holy Communion takes place every Monday at 1.15pm where we pray and worship together.
URL:https://stmaryathill.org/event/holy-communion-2/2026-05-11/
LOCATION:St Mary-at-Hill Church\, Lovat Lane\, Eastcheap\, London\, EC3R 8EE\, United Kingdom
ATTACH;FMTTYPE=image/jpeg:https://stmaryathill.org/wp-content/uploads/2023/01/Stmarys-team-8-e1730987366516.jpg
ORGANIZER;CN="St Mary-at-Hill Church":MAILTO:admin@stmary-at-hill.org
END:VEVENT
BEGIN:VEVENT
DTSTART;TZID=Europe/London:20260513T130000
DTEND;TZID=Europe/London:20260513T133000
DTSTAMP:20260423T144421
CREATED:20250305T125917Z
LAST-MODIFIED:20251217T170934Z
UID:10001333-1778677200-1778679000@stmaryathill.org
SUMMARY:Live Music Series
DESCRIPTION:Live music recital in association with Guildhall School.
URL:https://stmaryathill.org/event/live-music-series/2026-05-13/
ATTACH;FMTTYPE=image/jpeg:https://stmaryathill.org/wp-content/uploads/2025/03/Lot-10_Steinway-Sons-Grand-Piano_3.jpg
END:VEVENT
BEGIN:VEVENT
DTSTART;TZID=Europe/London:20260517T110000
DTEND;TZID=Europe/London:20260517T120000
DTSTAMP:20260423T144421
CREATED:20250818T183251Z
LAST-MODIFIED:20250818T183251Z
UID:10001085-1779015600-1779019200@stmaryathill.org
SUMMARY:Communion Service - Lutheran
DESCRIPTION:Lutheran Holy Communion service in English\, a time of fellowship and refreshments will follow the service. The service is livestreamed on Facebook: https://www.facebook.com/StAnnesLutheranChurch \nSt Anne’s Lutheran Church is based at St Mary-at-Hill Church\, Lovat Lane\, EC3R 8EB
URL:https://stmaryathill.org/event/communion-service-lutheran-2/2026-05-17/
LOCATION:St Mary-at-Hill Church\, Lovat Lane\, Eastcheap\, London\, EC3R 8EE\, United Kingdom
ATTACH;FMTTYPE=image/png:https://stmaryathill.org/wp-content/uploads/2025/05/SALC-Logo-e1747645026859.png
ORGANIZER;CN="St Anne's Lutheran Church":MAILTO:admin@stanneslutheranchurch.org.uk
END:VEVENT
BEGIN:VEVENT
DTSTART;TZID=Europe/London:20260518T131500
DTEND;TZID=Europe/London:20260518T140000
DTSTAMP:20260423T144421
CREATED:20240527T122507Z
LAST-MODIFIED:20251217T170651Z
UID:10001633-1779110100-1779112800@stmaryathill.org
SUMMARY:Holy Communion - Anglican
DESCRIPTION:A short service of Holy Communion takes place every Monday at 1.15pm where we pray and worship together.
URL:https://stmaryathill.org/event/holy-communion-2/2026-05-18/
LOCATION:St Mary-at-Hill Church\, Lovat Lane\, Eastcheap\, London\, EC3R 8EE\, United Kingdom
ATTACH;FMTTYPE=image/jpeg:https://stmaryathill.org/wp-content/uploads/2023/01/Stmarys-team-8-e1730987366516.jpg
ORGANIZER;CN="St Mary-at-Hill Church":MAILTO:admin@stmary-at-hill.org
END:VEVENT
BEGIN:VEVENT
DTSTART;TZID=Europe/London:20260520T130000
DTEND;TZID=Europe/London:20260520T133000
DTSTAMP:20260423T144421
CREATED:20250305T125917Z
LAST-MODIFIED:20251217T170934Z
UID:10001334-1779282000-1779283800@stmaryathill.org
SUMMARY:Live Music Series
DESCRIPTION:Live music recital in association with Guildhall School.
URL:https://stmaryathill.org/event/live-music-series/2026-05-20/
ATTACH;FMTTYPE=image/jpeg:https://stmaryathill.org/wp-content/uploads/2025/03/Lot-10_Steinway-Sons-Grand-Piano_3.jpg
END:VEVENT
BEGIN:VEVENT
DTSTART;TZID=Europe/London:20260524T110000
DTEND;TZID=Europe/London:20260524T120000
DTSTAMP:20260423T144421
CREATED:20250818T183251Z
LAST-MODIFIED:20250818T183251Z
UID:10001086-1779620400-1779624000@stmaryathill.org
SUMMARY:Communion Service - Lutheran
DESCRIPTION:Lutheran Holy Communion service in English\, a time of fellowship and refreshments will follow the service. The service is livestreamed on Facebook: https://www.facebook.com/StAnnesLutheranChurch \nSt Anne’s Lutheran Church is based at St Mary-at-Hill Church\, Lovat Lane\, EC3R 8EB
URL:https://stmaryathill.org/event/communion-service-lutheran-2/2026-05-24/
LOCATION:St Mary-at-Hill Church\, Lovat Lane\, Eastcheap\, London\, EC3R 8EE\, United Kingdom
ATTACH;FMTTYPE=image/png:https://stmaryathill.org/wp-content/uploads/2025/05/SALC-Logo-e1747645026859.png
ORGANIZER;CN="St Anne's Lutheran Church":MAILTO:admin@stanneslutheranchurch.org.uk
END:VEVENT
BEGIN:VEVENT
DTSTART;TZID=Europe/London:20260525T131500
DTEND;TZID=Europe/London:20260525T140000
DTSTAMP:20260423T144421
CREATED:20240527T122507Z
LAST-MODIFIED:20251217T170651Z
UID:10001634-1779714900-1779717600@stmaryathill.org
SUMMARY:Holy Communion - Anglican
DESCRIPTION:A short service of Holy Communion takes place every Monday at 1.15pm where we pray and worship together.
URL:https://stmaryathill.org/event/holy-communion-2/2026-05-25/
LOCATION:St Mary-at-Hill Church\, Lovat Lane\, Eastcheap\, London\, EC3R 8EE\, United Kingdom
ATTACH;FMTTYPE=image/jpeg:https://stmaryathill.org/wp-content/uploads/2023/01/Stmarys-team-8-e1730987366516.jpg
ORGANIZER;CN="St Mary-at-Hill Church":MAILTO:admin@stmary-at-hill.org
END:VEVENT
BEGIN:VEVENT
DTSTART;TZID=Europe/London:20260527T130000
DTEND;TZID=Europe/London:20260527T133000
DTSTAMP:20260423T144421
CREATED:20250305T125917Z
LAST-MODIFIED:20251217T170934Z
UID:10001335-1779886800-1779888600@stmaryathill.org
SUMMARY:Live Music Series
DESCRIPTION:Live music recital in association with Guildhall School.
URL:https://stmaryathill.org/event/live-music-series/2026-05-27/
ATTACH;FMTTYPE=image/jpeg:https://stmaryathill.org/wp-content/uploads/2025/03/Lot-10_Steinway-Sons-Grand-Piano_3.jpg
END:VEVENT
BEGIN:VEVENT
DTSTART;TZID=Europe/London:20260531T110000
DTEND;TZID=Europe/London:20260531T120000
DTSTAMP:20260423T144421
CREATED:20250818T183251Z
LAST-MODIFIED:20250818T183251Z
UID:10001087-1780225200-1780228800@stmaryathill.org
SUMMARY:Communion Service - Lutheran
DESCRIPTION:Lutheran Holy Communion service in English\, a time of fellowship and refreshments will follow the service. The service is livestreamed on Facebook: https://www.facebook.com/StAnnesLutheranChurch \nSt Anne’s Lutheran Church is based at St Mary-at-Hill Church\, Lovat Lane\, EC3R 8EB
URL:https://stmaryathill.org/event/communion-service-lutheran-2/2026-05-31/
LOCATION:St Mary-at-Hill Church\, Lovat Lane\, Eastcheap\, London\, EC3R 8EE\, United Kingdom
ATTACH;FMTTYPE=image/png:https://stmaryathill.org/wp-content/uploads/2025/05/SALC-Logo-e1747645026859.png
ORGANIZER;CN="St Anne's Lutheran Church":MAILTO:admin@stanneslutheranchurch.org.uk
END:VEVENT
END:VCALENDAR