BEGIN:VCALENDAR
VERSION:2.0
PRODID:-//St Mary-at-Hill - ECPv6.10.2//NONSGML v1.0//EN
CALSCALE:GREGORIAN
METHOD:PUBLISH
X-ORIGINAL-URL:https://stmaryathill.org
X-WR-CALDESC:Events for St Mary-at-Hill
REFRESH-INTERVAL;VALUE=DURATION:PT1H
X-Robots-Tag:noindex
X-PUBLISHED-TTL:PT1H
BEGIN:VTIMEZONE
TZID:Europe/London
BEGIN:DAYLIGHT
TZOFFSETFROM:+0000
TZOFFSETTO:+0100
TZNAME:BST
DTSTART:20250330T010000
END:DAYLIGHT
BEGIN:STANDARD
TZOFFSETFROM:+0100
TZOFFSETTO:+0000
TZNAME:GMT
DTSTART:20251026T010000
END:STANDARD
END:VTIMEZONE
BEGIN:VEVENT
DTSTART;TZID=Europe/London:20251102T110000
DTEND;TZID=Europe/London:20251102T120000
DTSTAMP:20260423T144421
CREATED:20250818T183251Z
LAST-MODIFIED:20250818T183251Z
UID:10001057-1762081200-1762084800@stmaryathill.org
SUMMARY:Communion Service - Lutheran
DESCRIPTION:Lutheran Holy Communion service in English\, a time of fellowship and refreshments will follow the service. The service is livestreamed on Facebook: https://www.facebook.com/StAnnesLutheranChurch \nSt Anne’s Lutheran Church is based at St Mary-at-Hill Church\, Lovat Lane\, EC3R 8EB
URL:https://stmaryathill.org/event/communion-service-lutheran-2/2025-11-02/
LOCATION:St Mary-at-Hill Church\, Lovat Lane\, Eastcheap\, London\, EC3R 8EE\, United Kingdom
ATTACH;FMTTYPE=image/png:https://stmaryathill.org/wp-content/uploads/2025/05/SALC-Logo-e1747645026859.png
ORGANIZER;CN="St Anne's Lutheran Church":MAILTO:admin@stanneslutheranchurch.org.uk
END:VEVENT
BEGIN:VEVENT
DTSTART;TZID=Europe/London:20251103T131500
DTEND;TZID=Europe/London:20251103T140000
DTSTAMP:20260423T144421
CREATED:20240527T122507Z
LAST-MODIFIED:20251217T170651Z
UID:10001605-1762175700-1762178400@stmaryathill.org
SUMMARY:Holy Communion - Anglican
DESCRIPTION:A short service of Holy Communion takes place every Monday at 1.15pm where we pray and worship together.
URL:https://stmaryathill.org/event/holy-communion-2/2025-11-03/
LOCATION:St Mary-at-Hill Church\, Lovat Lane\, Eastcheap\, London\, EC3R 8EE\, United Kingdom
ATTACH;FMTTYPE=image/jpeg:https://stmaryathill.org/wp-content/uploads/2023/01/Stmarys-team-8-e1730987366516.jpg
ORGANIZER;CN="St Mary-at-Hill Church":MAILTO:admin@stmary-at-hill.org
END:VEVENT
BEGIN:VEVENT
DTSTART;TZID=Europe/London:20251105T130000
DTEND;TZID=Europe/London:20251105T133000
DTSTAMP:20260423T144421
CREATED:20250305T125917Z
LAST-MODIFIED:20251217T170934Z
UID:10001895-1762347600-1762349400@stmaryathill.org
SUMMARY:Live Music Series
DESCRIPTION:Live music recital in association with Guildhall School.
URL:https://stmaryathill.org/event/live-music-series/2025-11-05/
ATTACH;FMTTYPE=image/jpeg:https://stmaryathill.org/wp-content/uploads/2025/03/Lot-10_Steinway-Sons-Grand-Piano_3.jpg
END:VEVENT
BEGIN:VEVENT
DTSTART;TZID=Europe/London:20251105T130000
DTEND;TZID=Europe/London:20251105T133000
DTSTAMP:20260423T144421
CREATED:20251020T163341Z
LAST-MODIFIED:20251020T163342Z
UID:10001306-1762347600-1762349400@stmaryathill.org
SUMMARY:Live Music Series
DESCRIPTION:Live music recital \nJelena Makarova – Piano
URL:https://stmaryathill.org/event/live-music-series-18/
ATTACH;FMTTYPE=image/jpeg:https://stmaryathill.org/wp-content/uploads/2025/03/Lot-10_Steinway-Sons-Grand-Piano_3.jpg
END:VEVENT
BEGIN:VEVENT
DTSTART;TZID=Europe/London:20251109T110000
DTEND;TZID=Europe/London:20251109T120000
DTSTAMP:20260423T144421
CREATED:20250818T183251Z
LAST-MODIFIED:20250818T183251Z
UID:10001058-1762686000-1762689600@stmaryathill.org
SUMMARY:Communion Service - Lutheran
DESCRIPTION:Lutheran Holy Communion service in English\, a time of fellowship and refreshments will follow the service. The service is livestreamed on Facebook: https://www.facebook.com/StAnnesLutheranChurch \nSt Anne’s Lutheran Church is based at St Mary-at-Hill Church\, Lovat Lane\, EC3R 8EB
URL:https://stmaryathill.org/event/communion-service-lutheran-2/2025-11-09/
LOCATION:St Mary-at-Hill Church\, Lovat Lane\, Eastcheap\, London\, EC3R 8EE\, United Kingdom
ATTACH;FMTTYPE=image/png:https://stmaryathill.org/wp-content/uploads/2025/05/SALC-Logo-e1747645026859.png
ORGANIZER;CN="St Anne's Lutheran Church":MAILTO:admin@stanneslutheranchurch.org.uk
END:VEVENT
BEGIN:VEVENT
DTSTART;TZID=Europe/London:20251110T131500
DTEND;TZID=Europe/London:20251110T140000
DTSTAMP:20260423T144421
CREATED:20240527T122507Z
LAST-MODIFIED:20251217T170651Z
UID:10001606-1762780500-1762783200@stmaryathill.org
SUMMARY:Holy Communion - Anglican
DESCRIPTION:A short service of Holy Communion takes place every Monday at 1.15pm where we pray and worship together.
URL:https://stmaryathill.org/event/holy-communion-2/2025-11-10/
LOCATION:St Mary-at-Hill Church\, Lovat Lane\, Eastcheap\, London\, EC3R 8EE\, United Kingdom
ATTACH;FMTTYPE=image/jpeg:https://stmaryathill.org/wp-content/uploads/2023/01/Stmarys-team-8-e1730987366516.jpg
ORGANIZER;CN="St Mary-at-Hill Church":MAILTO:admin@stmary-at-hill.org
END:VEVENT
BEGIN:VEVENT
DTSTART;TZID=Europe/London:20251111T193000
DTEND;TZID=Europe/London:20251111T220000
DTSTAMP:20260423T144421
CREATED:20251029T164333Z
LAST-MODIFIED:20251029T164333Z
UID:10001874-1762889400-1762898400@stmaryathill.org
SUMMARY:Chandos Chamber Choir concert
DESCRIPTION:Jazz Faure Requiem \nChandos Chamber Choir is delighted to present a special arrangement of Fauré’s Requiem\, featuring jazz accompaniment from an all-star line up. As well as choir\, the arrangement is written for piano\, double bass\, drums\, trumpet\, flugelhorn and saxophone. The programme will also include a selection of autumn\, Remembrance-themed and popular pieces\, such as Eleanor Daley’s In Remembrance\, Joseph Kosma’s Autumn Leaves (arranged by Andrew Carter) and Irving Berlin’s Blue Skies (arranged by Steve Zegree).
URL:https://stmaryathill.org/event/chandos-chamber-choir-concert-2/
END:VEVENT
BEGIN:VEVENT
DTSTART;TZID=Europe/London:20251112T130000
DTEND;TZID=Europe/London:20251112T133000
DTSTAMP:20260423T144421
CREATED:20250305T125917Z
LAST-MODIFIED:20251217T170934Z
UID:10001896-1762952400-1762954200@stmaryathill.org
SUMMARY:Live Music Series
DESCRIPTION:Live music recital in association with Guildhall School.
URL:https://stmaryathill.org/event/live-music-series/2025-11-12/
ATTACH;FMTTYPE=image/jpeg:https://stmaryathill.org/wp-content/uploads/2025/03/Lot-10_Steinway-Sons-Grand-Piano_3.jpg
END:VEVENT
BEGIN:VEVENT
DTSTART;TZID=Europe/London:20251112T130000
DTEND;TZID=Europe/London:20251112T133000
DTSTAMP:20260423T144421
CREATED:20251020T163423Z
LAST-MODIFIED:20251020T163423Z
UID:10001307-1762952400-1762954200@stmaryathill.org
SUMMARY:Live Music Series
DESCRIPTION:Live music recital \nJoel Colyer – Organ
URL:https://stmaryathill.org/event/live-music-series-19/
ATTACH;FMTTYPE=image/jpeg:https://stmaryathill.org/wp-content/uploads/2025/03/Lot-10_Steinway-Sons-Grand-Piano_3.jpg
END:VEVENT
BEGIN:VEVENT
DTSTART;TZID=Europe/London:20251116T110000
DTEND;TZID=Europe/London:20251116T120000
DTSTAMP:20260423T144421
CREATED:20250818T183251Z
LAST-MODIFIED:20250818T183251Z
UID:10001059-1763290800-1763294400@stmaryathill.org
SUMMARY:Communion Service - Lutheran
DESCRIPTION:Lutheran Holy Communion service in English\, a time of fellowship and refreshments will follow the service. The service is livestreamed on Facebook: https://www.facebook.com/StAnnesLutheranChurch \nSt Anne’s Lutheran Church is based at St Mary-at-Hill Church\, Lovat Lane\, EC3R 8EB
URL:https://stmaryathill.org/event/communion-service-lutheran-2/2025-11-16/
LOCATION:St Mary-at-Hill Church\, Lovat Lane\, Eastcheap\, London\, EC3R 8EE\, United Kingdom
ATTACH;FMTTYPE=image/png:https://stmaryathill.org/wp-content/uploads/2025/05/SALC-Logo-e1747645026859.png
ORGANIZER;CN="St Anne's Lutheran Church":MAILTO:admin@stanneslutheranchurch.org.uk
END:VEVENT
BEGIN:VEVENT
DTSTART;TZID=Europe/London:20251117T131500
DTEND;TZID=Europe/London:20251117T140000
DTSTAMP:20260423T144421
CREATED:20240527T122507Z
LAST-MODIFIED:20251217T170651Z
UID:10001607-1763385300-1763388000@stmaryathill.org
SUMMARY:Holy Communion - Anglican
DESCRIPTION:A short service of Holy Communion takes place every Monday at 1.15pm where we pray and worship together.
URL:https://stmaryathill.org/event/holy-communion-2/2025-11-17/
LOCATION:St Mary-at-Hill Church\, Lovat Lane\, Eastcheap\, London\, EC3R 8EE\, United Kingdom
ATTACH;FMTTYPE=image/jpeg:https://stmaryathill.org/wp-content/uploads/2023/01/Stmarys-team-8-e1730987366516.jpg
ORGANIZER;CN="St Mary-at-Hill Church":MAILTO:admin@stmary-at-hill.org
END:VEVENT
BEGIN:VEVENT
DTSTART;TZID=Europe/London:20251119T130000
DTEND;TZID=Europe/London:20251119T133000
DTSTAMP:20260423T144421
CREATED:20250305T125917Z
LAST-MODIFIED:20251217T170934Z
UID:10001897-1763557200-1763559000@stmaryathill.org
SUMMARY:Live Music Series
DESCRIPTION:Live music recital in association with Guildhall School.
URL:https://stmaryathill.org/event/live-music-series/2025-11-19/
ATTACH;FMTTYPE=image/jpeg:https://stmaryathill.org/wp-content/uploads/2025/03/Lot-10_Steinway-Sons-Grand-Piano_3.jpg
END:VEVENT
BEGIN:VEVENT
DTSTART;TZID=Europe/London:20251119T130000
DTEND;TZID=Europe/London:20251119T133000
DTSTAMP:20260423T144421
CREATED:20251020T163501Z
LAST-MODIFIED:20251020T163501Z
UID:10001308-1763557200-1763559000@stmaryathill.org
SUMMARY:Live Music Series
DESCRIPTION:Live music recital \nBaroque orchestra – open rehearsal
URL:https://stmaryathill.org/event/live-music-series-20/
ATTACH;FMTTYPE=image/jpeg:https://stmaryathill.org/wp-content/uploads/2025/03/Lot-10_Steinway-Sons-Grand-Piano_3.jpg
END:VEVENT
BEGIN:VEVENT
DTSTART;TZID=Europe/London:20251123T110000
DTEND;TZID=Europe/London:20251123T120000
DTSTAMP:20260423T144421
CREATED:20250818T183251Z
LAST-MODIFIED:20250818T183251Z
UID:10001060-1763895600-1763899200@stmaryathill.org
SUMMARY:Communion Service - Lutheran
DESCRIPTION:Lutheran Holy Communion service in English\, a time of fellowship and refreshments will follow the service. The service is livestreamed on Facebook: https://www.facebook.com/StAnnesLutheranChurch \nSt Anne’s Lutheran Church is based at St Mary-at-Hill Church\, Lovat Lane\, EC3R 8EB
URL:https://stmaryathill.org/event/communion-service-lutheran-2/2025-11-23/
LOCATION:St Mary-at-Hill Church\, Lovat Lane\, Eastcheap\, London\, EC3R 8EE\, United Kingdom
ATTACH;FMTTYPE=image/png:https://stmaryathill.org/wp-content/uploads/2025/05/SALC-Logo-e1747645026859.png
ORGANIZER;CN="St Anne's Lutheran Church":MAILTO:admin@stanneslutheranchurch.org.uk
END:VEVENT
BEGIN:VEVENT
DTSTART;TZID=Europe/London:20251124T131500
DTEND;TZID=Europe/London:20251124T140000
DTSTAMP:20260423T144421
CREATED:20240527T122507Z
LAST-MODIFIED:20251217T170651Z
UID:10001608-1763990100-1763992800@stmaryathill.org
SUMMARY:Holy Communion - Anglican
DESCRIPTION:A short service of Holy Communion takes place every Monday at 1.15pm where we pray and worship together.
URL:https://stmaryathill.org/event/holy-communion-2/2025-11-24/
LOCATION:St Mary-at-Hill Church\, Lovat Lane\, Eastcheap\, London\, EC3R 8EE\, United Kingdom
ATTACH;FMTTYPE=image/jpeg:https://stmaryathill.org/wp-content/uploads/2023/01/Stmarys-team-8-e1730987366516.jpg
ORGANIZER;CN="St Mary-at-Hill Church":MAILTO:admin@stmary-at-hill.org
END:VEVENT
BEGIN:VEVENT
DTSTART;TZID=Europe/London:20251126T130000
DTEND;TZID=Europe/London:20251126T133000
DTSTAMP:20260423T144421
CREATED:20250305T125917Z
LAST-MODIFIED:20251217T170934Z
UID:10001898-1764162000-1764163800@stmaryathill.org
SUMMARY:Live Music Series
DESCRIPTION:Live music recital in association with Guildhall School.
URL:https://stmaryathill.org/event/live-music-series/2025-11-26/
ATTACH;FMTTYPE=image/jpeg:https://stmaryathill.org/wp-content/uploads/2025/03/Lot-10_Steinway-Sons-Grand-Piano_3.jpg
END:VEVENT
BEGIN:VEVENT
DTSTART;TZID=Europe/London:20251126T130000
DTEND;TZID=Europe/London:20251126T133000
DTSTAMP:20260423T144421
CREATED:20251020T163709Z
LAST-MODIFIED:20251020T163717Z
UID:10001309-1764162000-1764163800@stmaryathill.org
SUMMARY:Live Music Series
DESCRIPTION:Live music recital \nAnaïs Manz & Riho Akagi Challenor \nSoprano & Piano
URL:https://stmaryathill.org/event/live-music-series-21/
ATTACH;FMTTYPE=image/jpeg:https://stmaryathill.org/wp-content/uploads/2025/03/Lot-10_Steinway-Sons-Grand-Piano_3.jpg
END:VEVENT
BEGIN:VEVENT
DTSTART;TZID=Europe/London:20251130T110000
DTEND;TZID=Europe/London:20251130T120000
DTSTAMP:20260423T144421
CREATED:20250818T183251Z
LAST-MODIFIED:20250818T183251Z
UID:10001061-1764500400-1764504000@stmaryathill.org
SUMMARY:Communion Service - Lutheran
DESCRIPTION:Lutheran Holy Communion service in English\, a time of fellowship and refreshments will follow the service. The service is livestreamed on Facebook: https://www.facebook.com/StAnnesLutheranChurch \nSt Anne’s Lutheran Church is based at St Mary-at-Hill Church\, Lovat Lane\, EC3R 8EB
URL:https://stmaryathill.org/event/communion-service-lutheran-2/2025-11-30/
LOCATION:St Mary-at-Hill Church\, Lovat Lane\, Eastcheap\, London\, EC3R 8EE\, United Kingdom
ATTACH;FMTTYPE=image/png:https://stmaryathill.org/wp-content/uploads/2025/05/SALC-Logo-e1747645026859.png
ORGANIZER;CN="St Anne's Lutheran Church":MAILTO:admin@stanneslutheranchurch.org.uk
END:VEVENT
END:VCALENDAR