BEGIN:VCALENDAR
VERSION:2.0
PRODID:-//St Mary-at-Hill - ECPv6.10.2//NONSGML v1.0//EN
CALSCALE:GREGORIAN
METHOD:PUBLISH
X-ORIGINAL-URL:https://stmaryathill.org
X-WR-CALDESC:Events for St Mary-at-Hill
REFRESH-INTERVAL;VALUE=DURATION:PT1H
X-Robots-Tag:noindex
X-PUBLISHED-TTL:PT1H
BEGIN:VTIMEZONE
TZID:Europe/London
BEGIN:DAYLIGHT
TZOFFSETFROM:+0000
TZOFFSETTO:+0100
TZNAME:BST
DTSTART:20250330T010000
END:DAYLIGHT
BEGIN:STANDARD
TZOFFSETFROM:+0100
TZOFFSETTO:+0000
TZNAME:GMT
DTSTART:20251026T010000
END:STANDARD
END:VTIMEZONE
BEGIN:VEVENT
DTSTART;TZID=Europe/London:20250702T130000
DTEND;TZID=Europe/London:20250702T133000
DTSTAMP:20260423T201747
CREATED:20250305T125917Z
LAST-MODIFIED:20251217T170934Z
UID:10001292-1751461200-1751463000@stmaryathill.org
SUMMARY:Live Music Series
DESCRIPTION:Live music recital in association with Guildhall School.
URL:https://stmaryathill.org/event/live-music-series/2025-07-02/
ATTACH;FMTTYPE=image/jpeg:https://stmaryathill.org/wp-content/uploads/2025/03/Lot-10_Steinway-Sons-Grand-Piano_3.jpg
END:VEVENT
BEGIN:VEVENT
DTSTART;TZID=Europe/London:20250704T193000
DTEND;TZID=Europe/London:20250704T220000
DTSTAMP:20260423T201747
CREATED:20250516T170909Z
LAST-MODIFIED:20250516T171407Z
UID:10001544-1751657400-1751666400@stmaryathill.org
SUMMARY:Music We'd Like to Hear - 2nd Summer 2025 Concert
DESCRIPTION:The 20th annual summer concert series of new\, neglected and unfamiliar music\, at St Mary-at-Hill in the City of London. \nTickets: From £11.50 | Book Tickets\nOur second concert of the series features soprano Juliet Fraser performing a grand and atmospheric work by Newton Armstrong\, with text by American marine biologist Rachel Carson. We pair this with the interior music of one of Cassandra Miller’s Tracery pieces\, co-composed with Juliet. We also feature a work for singing cellist by Danish composer Niels Rønsholdt played by Kirke Gross\, a classic tape work of speech and vocal sound by Lily Greenham\, and a moment of serenity by Leo Chadburn. The evening begins with a tribute to our friend Tom Johnson\, a hugely supportive presence for us over the last twenty years. \nTom Johnson – Pairs and Pairs\, from Twelve Years Later (2020)\nNiels Rønsholdt – Song II\, Melancholia III from Until Nothing Left (2017)\nCassandra Miller & Juliet Fraser – Tracery : Hardanger (2017)\nLily Greenham – Traffic (1975)\nLeo Chadburn – A Secret (2000)\nNewton Armstrong – The Book of the Sediments (2022) \nVoice – Juliet Fraser\nSound – Newton Armstrong\nCello & Voice – Kirke Gross\nPiano – Louis Gardner\nSaxophone – Lucy Havelock
URL:https://stmaryathill.org/event/music-wed-like-to-hear-2nd-summer-2025-concert/
ATTACH;FMTTYPE=image/jpeg:https://stmaryathill.org/wp-content/uploads/2025/05/summer-2025.jpg
END:VEVENT
BEGIN:VEVENT
DTSTART;TZID=Europe/London:20250706T110000
DTEND;TZID=Europe/London:20250706T120000
DTSTAMP:20260423T201747
CREATED:20250818T183448Z
LAST-MODIFIED:20250818T183715Z
UID:10001040-1751799600-1751803200@stmaryathill.org
SUMMARY:Communion Service - Lutheran
DESCRIPTION:Lutheran Holy Communion service in English\, a time of fellowship and refreshments will follow the service. The service is livestreamed on Facebook: https://www.facebook.com/StAnnesLutheranChurch \nSt Anne’s Lutheran Church is based at St Mary-at-Hill Church\, Lovat Lane\, EC3R 8EB
URL:https://stmaryathill.org/event/communion-service-lutheran-3/2025-07-06/
LOCATION:St Mary-at-Hill Church\, Lovat Lane\, Eastcheap\, London\, EC3R 8EE\, United Kingdom
ATTACH;FMTTYPE=image/png:https://stmaryathill.org/wp-content/uploads/2025/05/SALC-Logo-e1747645026859.png
ORGANIZER;CN="St Anne's Lutheran Church":MAILTO:admin@stanneslutheranchurch.org.uk
END:VEVENT
BEGIN:VEVENT
DTSTART;TZID=Europe/London:20250707T131500
DTEND;TZID=Europe/London:20250707T140000
DTSTAMP:20260423T201747
CREATED:20240527T122507Z
LAST-MODIFIED:20251217T170651Z
UID:10000732-1751894100-1751896800@stmaryathill.org
SUMMARY:Holy Communion - Anglican
DESCRIPTION:A short service of Holy Communion takes place every Monday at 1.15pm where we pray and worship together.
URL:https://stmaryathill.org/event/holy-communion-2/2025-07-07/
LOCATION:St Mary-at-Hill Church\, Lovat Lane\, Eastcheap\, London\, EC3R 8EE\, United Kingdom
ATTACH;FMTTYPE=image/jpeg:https://stmaryathill.org/wp-content/uploads/2023/01/Stmarys-team-8-e1730987366516.jpg
ORGANIZER;CN="St Mary-at-Hill Church":MAILTO:admin@stmary-at-hill.org
END:VEVENT
BEGIN:VEVENT
DTSTART;TZID=Europe/London:20250709T130000
DTEND;TZID=Europe/London:20250709T133000
DTSTAMP:20260423T201747
CREATED:20250305T125917Z
LAST-MODIFIED:20251217T170934Z
UID:10001293-1752066000-1752067800@stmaryathill.org
SUMMARY:Live Music Series
DESCRIPTION:Live music recital in association with Guildhall School.
URL:https://stmaryathill.org/event/live-music-series/2025-07-09/
ATTACH;FMTTYPE=image/jpeg:https://stmaryathill.org/wp-content/uploads/2025/03/Lot-10_Steinway-Sons-Grand-Piano_3.jpg
END:VEVENT
BEGIN:VEVENT
DTSTART;TZID=Europe/London:20250711T193000
DTEND;TZID=Europe/London:20250711T220000
DTSTAMP:20260423T201747
CREATED:20250516T171412Z
LAST-MODIFIED:20250516T171412Z
UID:10001545-1752262200-1752271200@stmaryathill.org
SUMMARY:Music We'd Like to Hear - 3rd Summer 2025 Concert
DESCRIPTION:The 20th annual summer concert series of new\, neglected and unfamiliar music\, at St Mary-at-Hill in the City of London. \nTickets: From £11.50 | Book Tickets\nOur third concert features two premieres from American legend John McGuire\, an exquisite recent sextet and a crystalline piano solo. We present the UK premiere of a delicate late work from Alvin Lucier\, realised by bassoonist Dafne Vicente Sandoval. We also feature sculptural miniature works by American visionary Laura Steenberge\, inspired by Emily Dickinson’s envelope poems. \nLaura Steenberge – Seven Poems (2024)\nJohn McGuire – Twelve Circles (2022-24)\nAlvin Lucier – Same and Different (2021)\nJohn McGuire – Playground (2016-20) \nBassoon – Dafne Vicente-Sandoval\nPiano – Mark Knoop\nEnsemble Plus Minus
URL:https://stmaryathill.org/event/music-wed-like-to-hear-3rd-summer-2025-concert/
ATTACH;FMTTYPE=image/jpeg:https://stmaryathill.org/wp-content/uploads/2025/05/summer-2025.jpg
END:VEVENT
BEGIN:VEVENT
DTSTART;TZID=Europe/London:20250713T110000
DTEND;TZID=Europe/London:20250713T120000
DTSTAMP:20260423T201747
CREATED:20250818T183448Z
LAST-MODIFIED:20250818T183715Z
UID:10001041-1752404400-1752408000@stmaryathill.org
SUMMARY:Communion Service - Lutheran
DESCRIPTION:Lutheran Holy Communion service in English\, a time of fellowship and refreshments will follow the service. The service is livestreamed on Facebook: https://www.facebook.com/StAnnesLutheranChurch \nSt Anne’s Lutheran Church is based at St Mary-at-Hill Church\, Lovat Lane\, EC3R 8EB
URL:https://stmaryathill.org/event/communion-service-lutheran-3/2025-07-13/
LOCATION:St Mary-at-Hill Church\, Lovat Lane\, Eastcheap\, London\, EC3R 8EE\, United Kingdom
ATTACH;FMTTYPE=image/png:https://stmaryathill.org/wp-content/uploads/2025/05/SALC-Logo-e1747645026859.png
ORGANIZER;CN="St Anne's Lutheran Church":MAILTO:admin@stanneslutheranchurch.org.uk
END:VEVENT
BEGIN:VEVENT
DTSTART;TZID=Europe/London:20250714T131500
DTEND;TZID=Europe/London:20250714T140000
DTSTAMP:20260423T201747
CREATED:20240527T122507Z
LAST-MODIFIED:20251217T170651Z
UID:10000733-1752498900-1752501600@stmaryathill.org
SUMMARY:Holy Communion - Anglican
DESCRIPTION:A short service of Holy Communion takes place every Monday at 1.15pm where we pray and worship together.
URL:https://stmaryathill.org/event/holy-communion-2/2025-07-14/
LOCATION:St Mary-at-Hill Church\, Lovat Lane\, Eastcheap\, London\, EC3R 8EE\, United Kingdom
ATTACH;FMTTYPE=image/jpeg:https://stmaryathill.org/wp-content/uploads/2023/01/Stmarys-team-8-e1730987366516.jpg
ORGANIZER;CN="St Mary-at-Hill Church":MAILTO:admin@stmary-at-hill.org
END:VEVENT
BEGIN:VEVENT
DTSTART;TZID=Europe/London:20250716T130000
DTEND;TZID=Europe/London:20250716T133000
DTSTAMP:20260423T201747
CREATED:20250305T125917Z
LAST-MODIFIED:20251217T170934Z
UID:10001294-1752670800-1752672600@stmaryathill.org
SUMMARY:Live Music Series
DESCRIPTION:Live music recital in association with Guildhall School.
URL:https://stmaryathill.org/event/live-music-series/2025-07-16/
ATTACH;FMTTYPE=image/jpeg:https://stmaryathill.org/wp-content/uploads/2025/03/Lot-10_Steinway-Sons-Grand-Piano_3.jpg
END:VEVENT
BEGIN:VEVENT
DTSTART;TZID=Europe/London:20250720T110000
DTEND;TZID=Europe/London:20250720T120000
DTSTAMP:20260423T201747
CREATED:20250818T183448Z
LAST-MODIFIED:20250818T183715Z
UID:10001042-1753009200-1753012800@stmaryathill.org
SUMMARY:Communion Service - Lutheran
DESCRIPTION:Lutheran Holy Communion service in English\, a time of fellowship and refreshments will follow the service. The service is livestreamed on Facebook: https://www.facebook.com/StAnnesLutheranChurch \nSt Anne’s Lutheran Church is based at St Mary-at-Hill Church\, Lovat Lane\, EC3R 8EB
URL:https://stmaryathill.org/event/communion-service-lutheran-3/2025-07-20/
LOCATION:St Mary-at-Hill Church\, Lovat Lane\, Eastcheap\, London\, EC3R 8EE\, United Kingdom
ATTACH;FMTTYPE=image/png:https://stmaryathill.org/wp-content/uploads/2025/05/SALC-Logo-e1747645026859.png
ORGANIZER;CN="St Anne's Lutheran Church":MAILTO:admin@stanneslutheranchurch.org.uk
END:VEVENT
BEGIN:VEVENT
DTSTART;TZID=Europe/London:20250721T131500
DTEND;TZID=Europe/London:20250721T140000
DTSTAMP:20260423T201747
CREATED:20240527T122507Z
LAST-MODIFIED:20251217T170651Z
UID:10000734-1753103700-1753106400@stmaryathill.org
SUMMARY:Holy Communion - Anglican
DESCRIPTION:A short service of Holy Communion takes place every Monday at 1.15pm where we pray and worship together.
URL:https://stmaryathill.org/event/holy-communion-2/2025-07-21/
LOCATION:St Mary-at-Hill Church\, Lovat Lane\, Eastcheap\, London\, EC3R 8EE\, United Kingdom
ATTACH;FMTTYPE=image/jpeg:https://stmaryathill.org/wp-content/uploads/2023/01/Stmarys-team-8-e1730987366516.jpg
ORGANIZER;CN="St Mary-at-Hill Church":MAILTO:admin@stmary-at-hill.org
END:VEVENT
BEGIN:VEVENT
DTSTART;TZID=Europe/London:20250723T130000
DTEND;TZID=Europe/London:20250723T133000
DTSTAMP:20260423T201747
CREATED:20250305T125917Z
LAST-MODIFIED:20251217T170934Z
UID:10001295-1753275600-1753277400@stmaryathill.org
SUMMARY:Live Music Series
DESCRIPTION:Live music recital in association with Guildhall School.
URL:https://stmaryathill.org/event/live-music-series/2025-07-23/
ATTACH;FMTTYPE=image/jpeg:https://stmaryathill.org/wp-content/uploads/2025/03/Lot-10_Steinway-Sons-Grand-Piano_3.jpg
END:VEVENT
BEGIN:VEVENT
DTSTART;TZID=Europe/London:20250727T110000
DTEND;TZID=Europe/London:20250727T120000
DTSTAMP:20260423T201747
CREATED:20250818T183448Z
LAST-MODIFIED:20250818T183715Z
UID:10001595-1753614000-1753617600@stmaryathill.org
SUMMARY:Communion Service - Lutheran
DESCRIPTION:Lutheran Holy Communion service in English\, a time of fellowship and refreshments will follow the service. The service is livestreamed on Facebook: https://www.facebook.com/StAnnesLutheranChurch \nSt Anne’s Lutheran Church is based at St Mary-at-Hill Church\, Lovat Lane\, EC3R 8EB
URL:https://stmaryathill.org/event/communion-service-lutheran-3/2025-07-27/
LOCATION:St Mary-at-Hill Church\, Lovat Lane\, Eastcheap\, London\, EC3R 8EE\, United Kingdom
ATTACH;FMTTYPE=image/png:https://stmaryathill.org/wp-content/uploads/2025/05/SALC-Logo-e1747645026859.png
ORGANIZER;CN="St Anne's Lutheran Church":MAILTO:admin@stanneslutheranchurch.org.uk
END:VEVENT
BEGIN:VEVENT
DTSTART;TZID=Europe/London:20250728T131500
DTEND;TZID=Europe/London:20250728T140000
DTSTAMP:20260423T201747
CREATED:20240527T122507Z
LAST-MODIFIED:20251217T170651Z
UID:10000735-1753708500-1753711200@stmaryathill.org
SUMMARY:Holy Communion - Anglican
DESCRIPTION:A short service of Holy Communion takes place every Monday at 1.15pm where we pray and worship together.
URL:https://stmaryathill.org/event/holy-communion-2/2025-07-28/
LOCATION:St Mary-at-Hill Church\, Lovat Lane\, Eastcheap\, London\, EC3R 8EE\, United Kingdom
ATTACH;FMTTYPE=image/jpeg:https://stmaryathill.org/wp-content/uploads/2023/01/Stmarys-team-8-e1730987366516.jpg
ORGANIZER;CN="St Mary-at-Hill Church":MAILTO:admin@stmary-at-hill.org
END:VEVENT
BEGIN:VEVENT
DTSTART;TZID=Europe/London:20250730T130000
DTEND;TZID=Europe/London:20250730T133000
DTSTAMP:20260423T201747
CREATED:20250305T125917Z
LAST-MODIFIED:20251217T170934Z
UID:10001296-1753880400-1753882200@stmaryathill.org
SUMMARY:Live Music Series
DESCRIPTION:Live music recital in association with Guildhall School.
URL:https://stmaryathill.org/event/live-music-series/2025-07-30/
ATTACH;FMTTYPE=image/jpeg:https://stmaryathill.org/wp-content/uploads/2025/03/Lot-10_Steinway-Sons-Grand-Piano_3.jpg
END:VEVENT
END:VCALENDAR