BEGIN:VCALENDAR
VERSION:2.0
PRODID:-//St Mary-at-Hill - ECPv6.10.2//NONSGML v1.0//EN
CALSCALE:GREGORIAN
METHOD:PUBLISH
X-WR-CALNAME:St Mary-at-Hill
X-ORIGINAL-URL:https://stmaryathill.org
X-WR-CALDESC:Events for St Mary-at-Hill
REFRESH-INTERVAL;VALUE=DURATION:PT1H
X-Robots-Tag:noindex
X-PUBLISHED-TTL:PT1H
BEGIN:VTIMEZONE
TZID:Europe/London
BEGIN:DAYLIGHT
TZOFFSETFROM:+0000
TZOFFSETTO:+0100
TZNAME:BST
DTSTART:20300331T010000
END:DAYLIGHT
BEGIN:STANDARD
TZOFFSETFROM:+0100
TZOFFSETTO:+0000
TZNAME:GMT
DTSTART:20301027T010000
END:STANDARD
END:VTIMEZONE
BEGIN:VEVENT
DTSTART;TZID=Europe/London:20300114T131500
DTEND;TZID=Europe/London:20300114T140000
DTSTAMP:20260425T012451
CREATED:20240527T122507Z
LAST-MODIFIED:20251217T170651Z
UID:10001824-1894626900-1894629600@stmaryathill.org
SUMMARY:Holy Communion - Anglican
DESCRIPTION:A short service of Holy Communion takes place every Monday at 1.15pm where we pray and worship together.
URL:https://stmaryathill.org/event/holy-communion-2/2030-01-14/
LOCATION:St Mary-at-Hill Church\, Lovat Lane\, Eastcheap\, London\, EC3R 8EE\, United Kingdom
ATTACH;FMTTYPE=image/jpeg:https://stmaryathill.org/wp-content/uploads/2023/01/Stmarys-team-8-e1730987366516.jpg
ORGANIZER;CN="St Mary-at-Hill Church":MAILTO:admin@stmary-at-hill.org
END:VEVENT
BEGIN:VEVENT
DTSTART;TZID=Europe/London:20300116T130000
DTEND;TZID=Europe/London:20300116T133000
DTSTAMP:20260425T012451
CREATED:20250305T125917Z
LAST-MODIFIED:20251217T170934Z
UID:10001525-1894798800-1894800600@stmaryathill.org
SUMMARY:Live Music Series
DESCRIPTION:Live music recital in association with Guildhall School.
URL:https://stmaryathill.org/event/live-music-series/2030-01-16/
ATTACH;FMTTYPE=image/jpeg:https://stmaryathill.org/wp-content/uploads/2025/03/Lot-10_Steinway-Sons-Grand-Piano_3.jpg
END:VEVENT
BEGIN:VEVENT
DTSTART;TZID=Europe/London:20300120T110000
DTEND;TZID=Europe/London:20300120T120000
DTSTAMP:20260425T012451
CREATED:20250818T183251Z
LAST-MODIFIED:20250818T183251Z
UID:10001558-1895137200-1895140800@stmaryathill.org
SUMMARY:Communion Service - Lutheran
DESCRIPTION:Lutheran Holy Communion service in English\, a time of fellowship and refreshments will follow the service. The service is livestreamed on Facebook: https://www.facebook.com/StAnnesLutheranChurch \nSt Anne’s Lutheran Church is based at St Mary-at-Hill Church\, Lovat Lane\, EC3R 8EB
URL:https://stmaryathill.org/event/communion-service-lutheran-2/2030-01-20/
LOCATION:St Mary-at-Hill Church\, Lovat Lane\, Eastcheap\, London\, EC3R 8EE\, United Kingdom
ATTACH;FMTTYPE=image/png:https://stmaryathill.org/wp-content/uploads/2025/05/SALC-Logo-e1747645026859.png
ORGANIZER;CN="St Anne's Lutheran Church":MAILTO:admin@stanneslutheranchurch.org.uk
END:VEVENT
BEGIN:VEVENT
DTSTART;TZID=Europe/London:20300121T131500
DTEND;TZID=Europe/London:20300121T140000
DTSTAMP:20260425T012451
CREATED:20240527T122507Z
LAST-MODIFIED:20251217T170651Z
UID:10001825-1895231700-1895234400@stmaryathill.org
SUMMARY:Holy Communion - Anglican
DESCRIPTION:A short service of Holy Communion takes place every Monday at 1.15pm where we pray and worship together.
URL:https://stmaryathill.org/event/holy-communion-2/2030-01-21/
LOCATION:St Mary-at-Hill Church\, Lovat Lane\, Eastcheap\, London\, EC3R 8EE\, United Kingdom
ATTACH;FMTTYPE=image/jpeg:https://stmaryathill.org/wp-content/uploads/2023/01/Stmarys-team-8-e1730987366516.jpg
ORGANIZER;CN="St Mary-at-Hill Church":MAILTO:admin@stmary-at-hill.org
END:VEVENT
BEGIN:VEVENT
DTSTART;TZID=Europe/London:20300123T130000
DTEND;TZID=Europe/London:20300123T133000
DTSTAMP:20260425T012451
CREATED:20250305T125917Z
LAST-MODIFIED:20251217T170934Z
UID:10001526-1895403600-1895405400@stmaryathill.org
SUMMARY:Live Music Series
DESCRIPTION:Live music recital in association with Guildhall School.
URL:https://stmaryathill.org/event/live-music-series/2030-01-23/
ATTACH;FMTTYPE=image/jpeg:https://stmaryathill.org/wp-content/uploads/2025/03/Lot-10_Steinway-Sons-Grand-Piano_3.jpg
END:VEVENT
BEGIN:VEVENT
DTSTART;TZID=Europe/London:20300127T110000
DTEND;TZID=Europe/London:20300127T120000
DTSTAMP:20260425T012451
CREATED:20250818T183251Z
LAST-MODIFIED:20250818T183251Z
UID:10001559-1895742000-1895745600@stmaryathill.org
SUMMARY:Communion Service - Lutheran
DESCRIPTION:Lutheran Holy Communion service in English\, a time of fellowship and refreshments will follow the service. The service is livestreamed on Facebook: https://www.facebook.com/StAnnesLutheranChurch \nSt Anne’s Lutheran Church is based at St Mary-at-Hill Church\, Lovat Lane\, EC3R 8EB
URL:https://stmaryathill.org/event/communion-service-lutheran-2/2030-01-27/
LOCATION:St Mary-at-Hill Church\, Lovat Lane\, Eastcheap\, London\, EC3R 8EE\, United Kingdom
ATTACH;FMTTYPE=image/png:https://stmaryathill.org/wp-content/uploads/2025/05/SALC-Logo-e1747645026859.png
ORGANIZER;CN="St Anne's Lutheran Church":MAILTO:admin@stanneslutheranchurch.org.uk
END:VEVENT
BEGIN:VEVENT
DTSTART;TZID=Europe/London:20300128T131500
DTEND;TZID=Europe/London:20300128T140000
DTSTAMP:20260425T012451
CREATED:20240527T122507Z
LAST-MODIFIED:20251217T170651Z
UID:10001826-1895836500-1895839200@stmaryathill.org
SUMMARY:Holy Communion - Anglican
DESCRIPTION:A short service of Holy Communion takes place every Monday at 1.15pm where we pray and worship together.
URL:https://stmaryathill.org/event/holy-communion-2/2030-01-28/
LOCATION:St Mary-at-Hill Church\, Lovat Lane\, Eastcheap\, London\, EC3R 8EE\, United Kingdom
ATTACH;FMTTYPE=image/jpeg:https://stmaryathill.org/wp-content/uploads/2023/01/Stmarys-team-8-e1730987366516.jpg
ORGANIZER;CN="St Mary-at-Hill Church":MAILTO:admin@stmary-at-hill.org
END:VEVENT
BEGIN:VEVENT
DTSTART;TZID=Europe/London:20300130T130000
DTEND;TZID=Europe/London:20300130T133000
DTSTAMP:20260425T012451
CREATED:20250305T125917Z
LAST-MODIFIED:20251217T170934Z
UID:10001527-1896008400-1896010200@stmaryathill.org
SUMMARY:Live Music Series
DESCRIPTION:Live music recital in association with Guildhall School.
URL:https://stmaryathill.org/event/live-music-series/2030-01-30/
ATTACH;FMTTYPE=image/jpeg:https://stmaryathill.org/wp-content/uploads/2025/03/Lot-10_Steinway-Sons-Grand-Piano_3.jpg
END:VEVENT
BEGIN:VEVENT
DTSTART;TZID=Europe/London:20300203T110000
DTEND;TZID=Europe/London:20300203T120000
DTSTAMP:20260425T012451
CREATED:20250818T183251Z
LAST-MODIFIED:20250818T183251Z
UID:10001560-1896346800-1896350400@stmaryathill.org
SUMMARY:Communion Service - Lutheran
DESCRIPTION:Lutheran Holy Communion service in English\, a time of fellowship and refreshments will follow the service. The service is livestreamed on Facebook: https://www.facebook.com/StAnnesLutheranChurch \nSt Anne’s Lutheran Church is based at St Mary-at-Hill Church\, Lovat Lane\, EC3R 8EB
URL:https://stmaryathill.org/event/communion-service-lutheran-2/2030-02-03/
LOCATION:St Mary-at-Hill Church\, Lovat Lane\, Eastcheap\, London\, EC3R 8EE\, United Kingdom
ATTACH;FMTTYPE=image/png:https://stmaryathill.org/wp-content/uploads/2025/05/SALC-Logo-e1747645026859.png
ORGANIZER;CN="St Anne's Lutheran Church":MAILTO:admin@stanneslutheranchurch.org.uk
END:VEVENT
BEGIN:VEVENT
DTSTART;TZID=Europe/London:20300204T131500
DTEND;TZID=Europe/London:20300204T140000
DTSTAMP:20260425T012451
CREATED:20240527T122507Z
LAST-MODIFIED:20251217T170651Z
UID:10001827-1896441300-1896444000@stmaryathill.org
SUMMARY:Holy Communion - Anglican
DESCRIPTION:A short service of Holy Communion takes place every Monday at 1.15pm where we pray and worship together.
URL:https://stmaryathill.org/event/holy-communion-2/2030-02-04/
LOCATION:St Mary-at-Hill Church\, Lovat Lane\, Eastcheap\, London\, EC3R 8EE\, United Kingdom
ATTACH;FMTTYPE=image/jpeg:https://stmaryathill.org/wp-content/uploads/2023/01/Stmarys-team-8-e1730987366516.jpg
ORGANIZER;CN="St Mary-at-Hill Church":MAILTO:admin@stmary-at-hill.org
END:VEVENT
BEGIN:VEVENT
DTSTART;TZID=Europe/London:20300206T130000
DTEND;TZID=Europe/London:20300206T133000
DTSTAMP:20260425T012451
CREATED:20250305T125917Z
LAST-MODIFIED:20251217T170934Z
UID:10001528-1896613200-1896615000@stmaryathill.org
SUMMARY:Live Music Series
DESCRIPTION:Live music recital in association with Guildhall School.
URL:https://stmaryathill.org/event/live-music-series/2030-02-06/
ATTACH;FMTTYPE=image/jpeg:https://stmaryathill.org/wp-content/uploads/2025/03/Lot-10_Steinway-Sons-Grand-Piano_3.jpg
END:VEVENT
BEGIN:VEVENT
DTSTART;TZID=Europe/London:20300210T110000
DTEND;TZID=Europe/London:20300210T120000
DTSTAMP:20260425T012451
CREATED:20250818T183251Z
LAST-MODIFIED:20250818T183251Z
UID:10001561-1896951600-1896955200@stmaryathill.org
SUMMARY:Communion Service - Lutheran
DESCRIPTION:Lutheran Holy Communion service in English\, a time of fellowship and refreshments will follow the service. The service is livestreamed on Facebook: https://www.facebook.com/StAnnesLutheranChurch \nSt Anne’s Lutheran Church is based at St Mary-at-Hill Church\, Lovat Lane\, EC3R 8EB
URL:https://stmaryathill.org/event/communion-service-lutheran-2/2030-02-10/
LOCATION:St Mary-at-Hill Church\, Lovat Lane\, Eastcheap\, London\, EC3R 8EE\, United Kingdom
ATTACH;FMTTYPE=image/png:https://stmaryathill.org/wp-content/uploads/2025/05/SALC-Logo-e1747645026859.png
ORGANIZER;CN="St Anne's Lutheran Church":MAILTO:admin@stanneslutheranchurch.org.uk
END:VEVENT
BEGIN:VEVENT
DTSTART;TZID=Europe/London:20300211T131500
DTEND;TZID=Europe/London:20300211T140000
DTSTAMP:20260425T012451
CREATED:20240527T122507Z
LAST-MODIFIED:20251217T170651Z
UID:10001828-1897046100-1897048800@stmaryathill.org
SUMMARY:Holy Communion - Anglican
DESCRIPTION:A short service of Holy Communion takes place every Monday at 1.15pm where we pray and worship together.
URL:https://stmaryathill.org/event/holy-communion-2/2030-02-11/
LOCATION:St Mary-at-Hill Church\, Lovat Lane\, Eastcheap\, London\, EC3R 8EE\, United Kingdom
ATTACH;FMTTYPE=image/jpeg:https://stmaryathill.org/wp-content/uploads/2023/01/Stmarys-team-8-e1730987366516.jpg
ORGANIZER;CN="St Mary-at-Hill Church":MAILTO:admin@stmary-at-hill.org
END:VEVENT
BEGIN:VEVENT
DTSTART;TZID=Europe/London:20300213T130000
DTEND;TZID=Europe/London:20300213T133000
DTSTAMP:20260425T012451
CREATED:20250305T125917Z
LAST-MODIFIED:20251217T170934Z
UID:10001529-1897218000-1897219800@stmaryathill.org
SUMMARY:Live Music Series
DESCRIPTION:Live music recital in association with Guildhall School.
URL:https://stmaryathill.org/event/live-music-series/2030-02-13/
ATTACH;FMTTYPE=image/jpeg:https://stmaryathill.org/wp-content/uploads/2025/03/Lot-10_Steinway-Sons-Grand-Piano_3.jpg
END:VEVENT
BEGIN:VEVENT
DTSTART;TZID=Europe/London:20300217T110000
DTEND;TZID=Europe/London:20300217T120000
DTSTAMP:20260425T012451
CREATED:20250818T183251Z
LAST-MODIFIED:20250818T183251Z
UID:10001562-1897556400-1897560000@stmaryathill.org
SUMMARY:Communion Service - Lutheran
DESCRIPTION:Lutheran Holy Communion service in English\, a time of fellowship and refreshments will follow the service. The service is livestreamed on Facebook: https://www.facebook.com/StAnnesLutheranChurch \nSt Anne’s Lutheran Church is based at St Mary-at-Hill Church\, Lovat Lane\, EC3R 8EB
URL:https://stmaryathill.org/event/communion-service-lutheran-2/2030-02-17/
LOCATION:St Mary-at-Hill Church\, Lovat Lane\, Eastcheap\, London\, EC3R 8EE\, United Kingdom
ATTACH;FMTTYPE=image/png:https://stmaryathill.org/wp-content/uploads/2025/05/SALC-Logo-e1747645026859.png
ORGANIZER;CN="St Anne's Lutheran Church":MAILTO:admin@stanneslutheranchurch.org.uk
END:VEVENT
BEGIN:VEVENT
DTSTART;TZID=Europe/London:20300218T131500
DTEND;TZID=Europe/London:20300218T140000
DTSTAMP:20260425T012451
CREATED:20240527T122507Z
LAST-MODIFIED:20251217T170651Z
UID:10001829-1897650900-1897653600@stmaryathill.org
SUMMARY:Holy Communion - Anglican
DESCRIPTION:A short service of Holy Communion takes place every Monday at 1.15pm where we pray and worship together.
URL:https://stmaryathill.org/event/holy-communion-2/2030-02-18/
LOCATION:St Mary-at-Hill Church\, Lovat Lane\, Eastcheap\, London\, EC3R 8EE\, United Kingdom
ATTACH;FMTTYPE=image/jpeg:https://stmaryathill.org/wp-content/uploads/2023/01/Stmarys-team-8-e1730987366516.jpg
ORGANIZER;CN="St Mary-at-Hill Church":MAILTO:admin@stmary-at-hill.org
END:VEVENT
BEGIN:VEVENT
DTSTART;TZID=Europe/London:20300220T130000
DTEND;TZID=Europe/London:20300220T133000
DTSTAMP:20260425T012451
CREATED:20250305T125917Z
LAST-MODIFIED:20251217T170934Z
UID:10001530-1897822800-1897824600@stmaryathill.org
SUMMARY:Live Music Series
DESCRIPTION:Live music recital in association with Guildhall School.
URL:https://stmaryathill.org/event/live-music-series/2030-02-20/
ATTACH;FMTTYPE=image/jpeg:https://stmaryathill.org/wp-content/uploads/2025/03/Lot-10_Steinway-Sons-Grand-Piano_3.jpg
END:VEVENT
BEGIN:VEVENT
DTSTART;TZID=Europe/London:20300224T110000
DTEND;TZID=Europe/London:20300224T120000
DTSTAMP:20260425T012451
CREATED:20250818T183251Z
LAST-MODIFIED:20250818T183251Z
UID:10001563-1898161200-1898164800@stmaryathill.org
SUMMARY:Communion Service - Lutheran
DESCRIPTION:Lutheran Holy Communion service in English\, a time of fellowship and refreshments will follow the service. The service is livestreamed on Facebook: https://www.facebook.com/StAnnesLutheranChurch \nSt Anne’s Lutheran Church is based at St Mary-at-Hill Church\, Lovat Lane\, EC3R 8EB
URL:https://stmaryathill.org/event/communion-service-lutheran-2/2030-02-24/
LOCATION:St Mary-at-Hill Church\, Lovat Lane\, Eastcheap\, London\, EC3R 8EE\, United Kingdom
ATTACH;FMTTYPE=image/png:https://stmaryathill.org/wp-content/uploads/2025/05/SALC-Logo-e1747645026859.png
ORGANIZER;CN="St Anne's Lutheran Church":MAILTO:admin@stanneslutheranchurch.org.uk
END:VEVENT
BEGIN:VEVENT
DTSTART;TZID=Europe/London:20300225T131500
DTEND;TZID=Europe/London:20300225T140000
DTSTAMP:20260425T012451
CREATED:20240527T122507Z
LAST-MODIFIED:20251217T170651Z
UID:10001830-1898255700-1898258400@stmaryathill.org
SUMMARY:Holy Communion - Anglican
DESCRIPTION:A short service of Holy Communion takes place every Monday at 1.15pm where we pray and worship together.
URL:https://stmaryathill.org/event/holy-communion-2/2030-02-25/
LOCATION:St Mary-at-Hill Church\, Lovat Lane\, Eastcheap\, London\, EC3R 8EE\, United Kingdom
ATTACH;FMTTYPE=image/jpeg:https://stmaryathill.org/wp-content/uploads/2023/01/Stmarys-team-8-e1730987366516.jpg
ORGANIZER;CN="St Mary-at-Hill Church":MAILTO:admin@stmary-at-hill.org
END:VEVENT
BEGIN:VEVENT
DTSTART;TZID=Europe/London:20300227T130000
DTEND;TZID=Europe/London:20300227T133000
DTSTAMP:20260425T012451
CREATED:20250305T125917Z
LAST-MODIFIED:20251217T170934Z
UID:10001531-1898427600-1898429400@stmaryathill.org
SUMMARY:Live Music Series
DESCRIPTION:Live music recital in association with Guildhall School.
URL:https://stmaryathill.org/event/live-music-series/2030-02-27/
ATTACH;FMTTYPE=image/jpeg:https://stmaryathill.org/wp-content/uploads/2025/03/Lot-10_Steinway-Sons-Grand-Piano_3.jpg
END:VEVENT
BEGIN:VEVENT
DTSTART;TZID=Europe/London:20300303T110000
DTEND;TZID=Europe/London:20300303T120000
DTSTAMP:20260425T012451
CREATED:20250818T183251Z
LAST-MODIFIED:20250818T183251Z
UID:10001564-1898766000-1898769600@stmaryathill.org
SUMMARY:Communion Service - Lutheran
DESCRIPTION:Lutheran Holy Communion service in English\, a time of fellowship and refreshments will follow the service. The service is livestreamed on Facebook: https://www.facebook.com/StAnnesLutheranChurch \nSt Anne’s Lutheran Church is based at St Mary-at-Hill Church\, Lovat Lane\, EC3R 8EB
URL:https://stmaryathill.org/event/communion-service-lutheran-2/2030-03-03/
LOCATION:St Mary-at-Hill Church\, Lovat Lane\, Eastcheap\, London\, EC3R 8EE\, United Kingdom
ATTACH;FMTTYPE=image/png:https://stmaryathill.org/wp-content/uploads/2025/05/SALC-Logo-e1747645026859.png
ORGANIZER;CN="St Anne's Lutheran Church":MAILTO:admin@stanneslutheranchurch.org.uk
END:VEVENT
BEGIN:VEVENT
DTSTART;TZID=Europe/London:20300304T131500
DTEND;TZID=Europe/London:20300304T140000
DTSTAMP:20260425T012451
CREATED:20240527T122507Z
LAST-MODIFIED:20251217T170651Z
UID:10001831-1898860500-1898863200@stmaryathill.org
SUMMARY:Holy Communion - Anglican
DESCRIPTION:A short service of Holy Communion takes place every Monday at 1.15pm where we pray and worship together.
URL:https://stmaryathill.org/event/holy-communion-2/2030-03-04/
LOCATION:St Mary-at-Hill Church\, Lovat Lane\, Eastcheap\, London\, EC3R 8EE\, United Kingdom
ATTACH;FMTTYPE=image/jpeg:https://stmaryathill.org/wp-content/uploads/2023/01/Stmarys-team-8-e1730987366516.jpg
ORGANIZER;CN="St Mary-at-Hill Church":MAILTO:admin@stmary-at-hill.org
END:VEVENT
BEGIN:VEVENT
DTSTART;TZID=Europe/London:20300306T130000
DTEND;TZID=Europe/London:20300306T133000
DTSTAMP:20260425T012451
CREATED:20250305T125917Z
LAST-MODIFIED:20251217T170934Z
UID:10001533-1899032400-1899034200@stmaryathill.org
SUMMARY:Live Music Series
DESCRIPTION:Live music recital in association with Guildhall School.
URL:https://stmaryathill.org/event/live-music-series/2030-03-06/
ATTACH;FMTTYPE=image/jpeg:https://stmaryathill.org/wp-content/uploads/2025/03/Lot-10_Steinway-Sons-Grand-Piano_3.jpg
END:VEVENT
BEGIN:VEVENT
DTSTART;TZID=Europe/London:20300310T110000
DTEND;TZID=Europe/London:20300310T120000
DTSTAMP:20260425T012451
CREATED:20250818T183251Z
LAST-MODIFIED:20250818T183251Z
UID:10001565-1899370800-1899374400@stmaryathill.org
SUMMARY:Communion Service - Lutheran
DESCRIPTION:Lutheran Holy Communion service in English\, a time of fellowship and refreshments will follow the service. The service is livestreamed on Facebook: https://www.facebook.com/StAnnesLutheranChurch \nSt Anne’s Lutheran Church is based at St Mary-at-Hill Church\, Lovat Lane\, EC3R 8EB
URL:https://stmaryathill.org/event/communion-service-lutheran-2/2030-03-10/
LOCATION:St Mary-at-Hill Church\, Lovat Lane\, Eastcheap\, London\, EC3R 8EE\, United Kingdom
ATTACH;FMTTYPE=image/png:https://stmaryathill.org/wp-content/uploads/2025/05/SALC-Logo-e1747645026859.png
ORGANIZER;CN="St Anne's Lutheran Church":MAILTO:admin@stanneslutheranchurch.org.uk
END:VEVENT
BEGIN:VEVENT
DTSTART;TZID=Europe/London:20300311T131500
DTEND;TZID=Europe/London:20300311T140000
DTSTAMP:20260425T012451
CREATED:20240527T122507Z
LAST-MODIFIED:20251217T170651Z
UID:10001832-1899465300-1899468000@stmaryathill.org
SUMMARY:Holy Communion - Anglican
DESCRIPTION:A short service of Holy Communion takes place every Monday at 1.15pm where we pray and worship together.
URL:https://stmaryathill.org/event/holy-communion-2/2030-03-11/
LOCATION:St Mary-at-Hill Church\, Lovat Lane\, Eastcheap\, London\, EC3R 8EE\, United Kingdom
ATTACH;FMTTYPE=image/jpeg:https://stmaryathill.org/wp-content/uploads/2023/01/Stmarys-team-8-e1730987366516.jpg
ORGANIZER;CN="St Mary-at-Hill Church":MAILTO:admin@stmary-at-hill.org
END:VEVENT
BEGIN:VEVENT
DTSTART;TZID=Europe/London:20300313T130000
DTEND;TZID=Europe/London:20300313T133000
DTSTAMP:20260425T012451
CREATED:20250305T125917Z
LAST-MODIFIED:20251217T170934Z
UID:10001534-1899637200-1899639000@stmaryathill.org
SUMMARY:Live Music Series
DESCRIPTION:Live music recital in association with Guildhall School.
URL:https://stmaryathill.org/event/live-music-series/2030-03-13/
ATTACH;FMTTYPE=image/jpeg:https://stmaryathill.org/wp-content/uploads/2025/03/Lot-10_Steinway-Sons-Grand-Piano_3.jpg
END:VEVENT
BEGIN:VEVENT
DTSTART;TZID=Europe/London:20300317T110000
DTEND;TZID=Europe/London:20300317T120000
DTSTAMP:20260425T012451
CREATED:20250818T183251Z
LAST-MODIFIED:20250818T183251Z
UID:10001566-1899975600-1899979200@stmaryathill.org
SUMMARY:Communion Service - Lutheran
DESCRIPTION:Lutheran Holy Communion service in English\, a time of fellowship and refreshments will follow the service. The service is livestreamed on Facebook: https://www.facebook.com/StAnnesLutheranChurch \nSt Anne’s Lutheran Church is based at St Mary-at-Hill Church\, Lovat Lane\, EC3R 8EB
URL:https://stmaryathill.org/event/communion-service-lutheran-2/2030-03-17/
LOCATION:St Mary-at-Hill Church\, Lovat Lane\, Eastcheap\, London\, EC3R 8EE\, United Kingdom
ATTACH;FMTTYPE=image/png:https://stmaryathill.org/wp-content/uploads/2025/05/SALC-Logo-e1747645026859.png
ORGANIZER;CN="St Anne's Lutheran Church":MAILTO:admin@stanneslutheranchurch.org.uk
END:VEVENT
BEGIN:VEVENT
DTSTART;TZID=Europe/London:20300318T131500
DTEND;TZID=Europe/London:20300318T140000
DTSTAMP:20260425T012451
CREATED:20240527T122507Z
LAST-MODIFIED:20251217T170651Z
UID:10001833-1900070100-1900072800@stmaryathill.org
SUMMARY:Holy Communion - Anglican
DESCRIPTION:A short service of Holy Communion takes place every Monday at 1.15pm where we pray and worship together.
URL:https://stmaryathill.org/event/holy-communion-2/2030-03-18/
LOCATION:St Mary-at-Hill Church\, Lovat Lane\, Eastcheap\, London\, EC3R 8EE\, United Kingdom
ATTACH;FMTTYPE=image/jpeg:https://stmaryathill.org/wp-content/uploads/2023/01/Stmarys-team-8-e1730987366516.jpg
ORGANIZER;CN="St Mary-at-Hill Church":MAILTO:admin@stmary-at-hill.org
END:VEVENT
BEGIN:VEVENT
DTSTART;TZID=Europe/London:20300320T130000
DTEND;TZID=Europe/London:20300320T133000
DTSTAMP:20260425T012451
CREATED:20250305T125917Z
LAST-MODIFIED:20251217T170934Z
UID:10001535-1900242000-1900243800@stmaryathill.org
SUMMARY:Live Music Series
DESCRIPTION:Live music recital in association with Guildhall School.
URL:https://stmaryathill.org/event/live-music-series/2030-03-20/
ATTACH;FMTTYPE=image/jpeg:https://stmaryathill.org/wp-content/uploads/2025/03/Lot-10_Steinway-Sons-Grand-Piano_3.jpg
END:VEVENT
BEGIN:VEVENT
DTSTART;TZID=Europe/London:20300324T110000
DTEND;TZID=Europe/London:20300324T120000
DTSTAMP:20260425T012451
CREATED:20250818T183251Z
LAST-MODIFIED:20250818T183251Z
UID:10001567-1900580400-1900584000@stmaryathill.org
SUMMARY:Communion Service - Lutheran
DESCRIPTION:Lutheran Holy Communion service in English\, a time of fellowship and refreshments will follow the service. The service is livestreamed on Facebook: https://www.facebook.com/StAnnesLutheranChurch \nSt Anne’s Lutheran Church is based at St Mary-at-Hill Church\, Lovat Lane\, EC3R 8EB
URL:https://stmaryathill.org/event/communion-service-lutheran-2/2030-03-24/
LOCATION:St Mary-at-Hill Church\, Lovat Lane\, Eastcheap\, London\, EC3R 8EE\, United Kingdom
ATTACH;FMTTYPE=image/png:https://stmaryathill.org/wp-content/uploads/2025/05/SALC-Logo-e1747645026859.png
ORGANIZER;CN="St Anne's Lutheran Church":MAILTO:admin@stanneslutheranchurch.org.uk
END:VEVENT
END:VCALENDAR