BEGIN:VCALENDAR
VERSION:2.0
PRODID:-//St Mary-at-Hill - ECPv6.10.2//NONSGML v1.0//EN
CALSCALE:GREGORIAN
METHOD:PUBLISH
X-WR-CALNAME:St Mary-at-Hill
X-ORIGINAL-URL:https://stmaryathill.org
X-WR-CALDESC:Events for St Mary-at-Hill
REFRESH-INTERVAL;VALUE=DURATION:PT1H
X-Robots-Tag:noindex
X-PUBLISHED-TTL:PT1H
BEGIN:VTIMEZONE
TZID:Europe/London
BEGIN:DAYLIGHT
TZOFFSETFROM:+0000
TZOFFSETTO:+0100
TZNAME:BST
DTSTART:20280326T010000
END:DAYLIGHT
BEGIN:STANDARD
TZOFFSETFROM:+0100
TZOFFSETTO:+0000
TZNAME:GMT
DTSTART:20281029T010000
END:STANDARD
END:VTIMEZONE
BEGIN:VEVENT
DTSTART;TZID=Europe/London:20280828T131500
DTEND;TZID=Europe/London:20280828T140000
DTSTAMP:20260423T192226
CREATED:20240527T122507Z
LAST-MODIFIED:20251217T170651Z
UID:10001752-1851081300-1851084000@stmaryathill.org
SUMMARY:Holy Communion - Anglican
DESCRIPTION:A short service of Holy Communion takes place every Monday at 1.15pm where we pray and worship together.
URL:https://stmaryathill.org/event/holy-communion-2/2028-08-28/
LOCATION:St Mary-at-Hill Church\, Lovat Lane\, Eastcheap\, London\, EC3R 8EE\, United Kingdom
ATTACH;FMTTYPE=image/jpeg:https://stmaryathill.org/wp-content/uploads/2023/01/Stmarys-team-8-e1730987366516.jpg
ORGANIZER;CN="St Mary-at-Hill Church":MAILTO:admin@stmary-at-hill.org
END:VEVENT
BEGIN:VEVENT
DTSTART;TZID=Europe/London:20280830T130000
DTEND;TZID=Europe/London:20280830T133000
DTSTAMP:20260423T192226
CREATED:20250305T125917Z
LAST-MODIFIED:20251217T170934Z
UID:10001453-1851253200-1851255000@stmaryathill.org
SUMMARY:Live Music Series
DESCRIPTION:Live music recital in association with Guildhall School.
URL:https://stmaryathill.org/event/live-music-series/2028-08-30/
ATTACH;FMTTYPE=image/jpeg:https://stmaryathill.org/wp-content/uploads/2025/03/Lot-10_Steinway-Sons-Grand-Piano_3.jpg
END:VEVENT
BEGIN:VEVENT
DTSTART;TZID=Europe/London:20280903T110000
DTEND;TZID=Europe/London:20280903T120000
DTSTAMP:20260423T192226
CREATED:20250818T183251Z
LAST-MODIFIED:20250818T183251Z
UID:10001205-1851591600-1851595200@stmaryathill.org
SUMMARY:Communion Service - Lutheran
DESCRIPTION:Lutheran Holy Communion service in English\, a time of fellowship and refreshments will follow the service. The service is livestreamed on Facebook: https://www.facebook.com/StAnnesLutheranChurch \nSt Anne’s Lutheran Church is based at St Mary-at-Hill Church\, Lovat Lane\, EC3R 8EB
URL:https://stmaryathill.org/event/communion-service-lutheran-2/2028-09-03/
LOCATION:St Mary-at-Hill Church\, Lovat Lane\, Eastcheap\, London\, EC3R 8EE\, United Kingdom
ATTACH;FMTTYPE=image/png:https://stmaryathill.org/wp-content/uploads/2025/05/SALC-Logo-e1747645026859.png
ORGANIZER;CN="St Anne's Lutheran Church":MAILTO:admin@stanneslutheranchurch.org.uk
END:VEVENT
BEGIN:VEVENT
DTSTART;TZID=Europe/London:20280904T131500
DTEND;TZID=Europe/London:20280904T140000
DTSTAMP:20260423T192226
CREATED:20240527T122507Z
LAST-MODIFIED:20251217T170651Z
UID:10001753-1851686100-1851688800@stmaryathill.org
SUMMARY:Holy Communion - Anglican
DESCRIPTION:A short service of Holy Communion takes place every Monday at 1.15pm where we pray and worship together.
URL:https://stmaryathill.org/event/holy-communion-2/2028-09-04/
LOCATION:St Mary-at-Hill Church\, Lovat Lane\, Eastcheap\, London\, EC3R 8EE\, United Kingdom
ATTACH;FMTTYPE=image/jpeg:https://stmaryathill.org/wp-content/uploads/2023/01/Stmarys-team-8-e1730987366516.jpg
ORGANIZER;CN="St Mary-at-Hill Church":MAILTO:admin@stmary-at-hill.org
END:VEVENT
BEGIN:VEVENT
DTSTART;TZID=Europe/London:20280906T130000
DTEND;TZID=Europe/London:20280906T133000
DTSTAMP:20260423T192226
CREATED:20250305T125917Z
LAST-MODIFIED:20251217T170934Z
UID:10001454-1851858000-1851859800@stmaryathill.org
SUMMARY:Live Music Series
DESCRIPTION:Live music recital in association with Guildhall School.
URL:https://stmaryathill.org/event/live-music-series/2028-09-06/
ATTACH;FMTTYPE=image/jpeg:https://stmaryathill.org/wp-content/uploads/2025/03/Lot-10_Steinway-Sons-Grand-Piano_3.jpg
END:VEVENT
BEGIN:VEVENT
DTSTART;TZID=Europe/London:20280910T110000
DTEND;TZID=Europe/London:20280910T120000
DTSTAMP:20260423T192226
CREATED:20250818T183251Z
LAST-MODIFIED:20250818T183251Z
UID:10001206-1852196400-1852200000@stmaryathill.org
SUMMARY:Communion Service - Lutheran
DESCRIPTION:Lutheran Holy Communion service in English\, a time of fellowship and refreshments will follow the service. The service is livestreamed on Facebook: https://www.facebook.com/StAnnesLutheranChurch \nSt Anne’s Lutheran Church is based at St Mary-at-Hill Church\, Lovat Lane\, EC3R 8EB
URL:https://stmaryathill.org/event/communion-service-lutheran-2/2028-09-10/
LOCATION:St Mary-at-Hill Church\, Lovat Lane\, Eastcheap\, London\, EC3R 8EE\, United Kingdom
ATTACH;FMTTYPE=image/png:https://stmaryathill.org/wp-content/uploads/2025/05/SALC-Logo-e1747645026859.png
ORGANIZER;CN="St Anne's Lutheran Church":MAILTO:admin@stanneslutheranchurch.org.uk
END:VEVENT
BEGIN:VEVENT
DTSTART;TZID=Europe/London:20280911T131500
DTEND;TZID=Europe/London:20280911T140000
DTSTAMP:20260423T192226
CREATED:20240527T122507Z
LAST-MODIFIED:20251217T170651Z
UID:10001754-1852290900-1852293600@stmaryathill.org
SUMMARY:Holy Communion - Anglican
DESCRIPTION:A short service of Holy Communion takes place every Monday at 1.15pm where we pray and worship together.
URL:https://stmaryathill.org/event/holy-communion-2/2028-09-11/
LOCATION:St Mary-at-Hill Church\, Lovat Lane\, Eastcheap\, London\, EC3R 8EE\, United Kingdom
ATTACH;FMTTYPE=image/jpeg:https://stmaryathill.org/wp-content/uploads/2023/01/Stmarys-team-8-e1730987366516.jpg
ORGANIZER;CN="St Mary-at-Hill Church":MAILTO:admin@stmary-at-hill.org
END:VEVENT
BEGIN:VEVENT
DTSTART;TZID=Europe/London:20280913T130000
DTEND;TZID=Europe/London:20280913T133000
DTSTAMP:20260423T192226
CREATED:20250305T125917Z
LAST-MODIFIED:20251217T170934Z
UID:10001455-1852462800-1852464600@stmaryathill.org
SUMMARY:Live Music Series
DESCRIPTION:Live music recital in association with Guildhall School.
URL:https://stmaryathill.org/event/live-music-series/2028-09-13/
ATTACH;FMTTYPE=image/jpeg:https://stmaryathill.org/wp-content/uploads/2025/03/Lot-10_Steinway-Sons-Grand-Piano_3.jpg
END:VEVENT
BEGIN:VEVENT
DTSTART;TZID=Europe/London:20280917T110000
DTEND;TZID=Europe/London:20280917T120000
DTSTAMP:20260423T192226
CREATED:20250818T183251Z
LAST-MODIFIED:20250818T183251Z
UID:10001207-1852801200-1852804800@stmaryathill.org
SUMMARY:Communion Service - Lutheran
DESCRIPTION:Lutheran Holy Communion service in English\, a time of fellowship and refreshments will follow the service. The service is livestreamed on Facebook: https://www.facebook.com/StAnnesLutheranChurch \nSt Anne’s Lutheran Church is based at St Mary-at-Hill Church\, Lovat Lane\, EC3R 8EB
URL:https://stmaryathill.org/event/communion-service-lutheran-2/2028-09-17/
LOCATION:St Mary-at-Hill Church\, Lovat Lane\, Eastcheap\, London\, EC3R 8EE\, United Kingdom
ATTACH;FMTTYPE=image/png:https://stmaryathill.org/wp-content/uploads/2025/05/SALC-Logo-e1747645026859.png
ORGANIZER;CN="St Anne's Lutheran Church":MAILTO:admin@stanneslutheranchurch.org.uk
END:VEVENT
BEGIN:VEVENT
DTSTART;TZID=Europe/London:20280918T131500
DTEND;TZID=Europe/London:20280918T140000
DTSTAMP:20260423T192226
CREATED:20240527T122507Z
LAST-MODIFIED:20251217T170651Z
UID:10001755-1852895700-1852898400@stmaryathill.org
SUMMARY:Holy Communion - Anglican
DESCRIPTION:A short service of Holy Communion takes place every Monday at 1.15pm where we pray and worship together.
URL:https://stmaryathill.org/event/holy-communion-2/2028-09-18/
LOCATION:St Mary-at-Hill Church\, Lovat Lane\, Eastcheap\, London\, EC3R 8EE\, United Kingdom
ATTACH;FMTTYPE=image/jpeg:https://stmaryathill.org/wp-content/uploads/2023/01/Stmarys-team-8-e1730987366516.jpg
ORGANIZER;CN="St Mary-at-Hill Church":MAILTO:admin@stmary-at-hill.org
END:VEVENT
BEGIN:VEVENT
DTSTART;TZID=Europe/London:20280920T130000
DTEND;TZID=Europe/London:20280920T133000
DTSTAMP:20260423T192226
CREATED:20250305T125917Z
LAST-MODIFIED:20251217T170934Z
UID:10001456-1853067600-1853069400@stmaryathill.org
SUMMARY:Live Music Series
DESCRIPTION:Live music recital in association with Guildhall School.
URL:https://stmaryathill.org/event/live-music-series/2028-09-20/
ATTACH;FMTTYPE=image/jpeg:https://stmaryathill.org/wp-content/uploads/2025/03/Lot-10_Steinway-Sons-Grand-Piano_3.jpg
END:VEVENT
BEGIN:VEVENT
DTSTART;TZID=Europe/London:20280924T110000
DTEND;TZID=Europe/London:20280924T120000
DTSTAMP:20260423T192226
CREATED:20250818T183251Z
LAST-MODIFIED:20250818T183251Z
UID:10001208-1853406000-1853409600@stmaryathill.org
SUMMARY:Communion Service - Lutheran
DESCRIPTION:Lutheran Holy Communion service in English\, a time of fellowship and refreshments will follow the service. The service is livestreamed on Facebook: https://www.facebook.com/StAnnesLutheranChurch \nSt Anne’s Lutheran Church is based at St Mary-at-Hill Church\, Lovat Lane\, EC3R 8EB
URL:https://stmaryathill.org/event/communion-service-lutheran-2/2028-09-24/
LOCATION:St Mary-at-Hill Church\, Lovat Lane\, Eastcheap\, London\, EC3R 8EE\, United Kingdom
ATTACH;FMTTYPE=image/png:https://stmaryathill.org/wp-content/uploads/2025/05/SALC-Logo-e1747645026859.png
ORGANIZER;CN="St Anne's Lutheran Church":MAILTO:admin@stanneslutheranchurch.org.uk
END:VEVENT
BEGIN:VEVENT
DTSTART;TZID=Europe/London:20280925T131500
DTEND;TZID=Europe/London:20280925T140000
DTSTAMP:20260423T192226
CREATED:20240527T122507Z
LAST-MODIFIED:20251217T170651Z
UID:10001756-1853500500-1853503200@stmaryathill.org
SUMMARY:Holy Communion - Anglican
DESCRIPTION:A short service of Holy Communion takes place every Monday at 1.15pm where we pray and worship together.
URL:https://stmaryathill.org/event/holy-communion-2/2028-09-25/
LOCATION:St Mary-at-Hill Church\, Lovat Lane\, Eastcheap\, London\, EC3R 8EE\, United Kingdom
ATTACH;FMTTYPE=image/jpeg:https://stmaryathill.org/wp-content/uploads/2023/01/Stmarys-team-8-e1730987366516.jpg
ORGANIZER;CN="St Mary-at-Hill Church":MAILTO:admin@stmary-at-hill.org
END:VEVENT
BEGIN:VEVENT
DTSTART;TZID=Europe/London:20280927T130000
DTEND;TZID=Europe/London:20280927T133000
DTSTAMP:20260423T192226
CREATED:20250305T125917Z
LAST-MODIFIED:20251217T170934Z
UID:10001457-1853672400-1853674200@stmaryathill.org
SUMMARY:Live Music Series
DESCRIPTION:Live music recital in association with Guildhall School.
URL:https://stmaryathill.org/event/live-music-series/2028-09-27/
ATTACH;FMTTYPE=image/jpeg:https://stmaryathill.org/wp-content/uploads/2025/03/Lot-10_Steinway-Sons-Grand-Piano_3.jpg
END:VEVENT
BEGIN:VEVENT
DTSTART;TZID=Europe/London:20281001T110000
DTEND;TZID=Europe/London:20281001T120000
DTSTAMP:20260423T192226
CREATED:20250818T183251Z
LAST-MODIFIED:20250818T183251Z
UID:10001209-1854010800-1854014400@stmaryathill.org
SUMMARY:Communion Service - Lutheran
DESCRIPTION:Lutheran Holy Communion service in English\, a time of fellowship and refreshments will follow the service. The service is livestreamed on Facebook: https://www.facebook.com/StAnnesLutheranChurch \nSt Anne’s Lutheran Church is based at St Mary-at-Hill Church\, Lovat Lane\, EC3R 8EB
URL:https://stmaryathill.org/event/communion-service-lutheran-2/2028-10-01/
LOCATION:St Mary-at-Hill Church\, Lovat Lane\, Eastcheap\, London\, EC3R 8EE\, United Kingdom
ATTACH;FMTTYPE=image/png:https://stmaryathill.org/wp-content/uploads/2025/05/SALC-Logo-e1747645026859.png
ORGANIZER;CN="St Anne's Lutheran Church":MAILTO:admin@stanneslutheranchurch.org.uk
END:VEVENT
BEGIN:VEVENT
DTSTART;TZID=Europe/London:20281002T131500
DTEND;TZID=Europe/London:20281002T140000
DTSTAMP:20260423T192226
CREATED:20240527T122507Z
LAST-MODIFIED:20251217T170651Z
UID:10001757-1854105300-1854108000@stmaryathill.org
SUMMARY:Holy Communion - Anglican
DESCRIPTION:A short service of Holy Communion takes place every Monday at 1.15pm where we pray and worship together.
URL:https://stmaryathill.org/event/holy-communion-2/2028-10-02/
LOCATION:St Mary-at-Hill Church\, Lovat Lane\, Eastcheap\, London\, EC3R 8EE\, United Kingdom
ATTACH;FMTTYPE=image/jpeg:https://stmaryathill.org/wp-content/uploads/2023/01/Stmarys-team-8-e1730987366516.jpg
ORGANIZER;CN="St Mary-at-Hill Church":MAILTO:admin@stmary-at-hill.org
END:VEVENT
BEGIN:VEVENT
DTSTART;TZID=Europe/London:20281004T130000
DTEND;TZID=Europe/London:20281004T133000
DTSTAMP:20260423T192226
CREATED:20250305T125917Z
LAST-MODIFIED:20251217T170934Z
UID:10001458-1854277200-1854279000@stmaryathill.org
SUMMARY:Live Music Series
DESCRIPTION:Live music recital in association with Guildhall School.
URL:https://stmaryathill.org/event/live-music-series/2028-10-04/
ATTACH;FMTTYPE=image/jpeg:https://stmaryathill.org/wp-content/uploads/2025/03/Lot-10_Steinway-Sons-Grand-Piano_3.jpg
END:VEVENT
BEGIN:VEVENT
DTSTART;TZID=Europe/London:20281008T110000
DTEND;TZID=Europe/London:20281008T120000
DTSTAMP:20260423T192226
CREATED:20250818T183251Z
LAST-MODIFIED:20250818T183251Z
UID:10001210-1854615600-1854619200@stmaryathill.org
SUMMARY:Communion Service - Lutheran
DESCRIPTION:Lutheran Holy Communion service in English\, a time of fellowship and refreshments will follow the service. The service is livestreamed on Facebook: https://www.facebook.com/StAnnesLutheranChurch \nSt Anne’s Lutheran Church is based at St Mary-at-Hill Church\, Lovat Lane\, EC3R 8EB
URL:https://stmaryathill.org/event/communion-service-lutheran-2/2028-10-08/
LOCATION:St Mary-at-Hill Church\, Lovat Lane\, Eastcheap\, London\, EC3R 8EE\, United Kingdom
ATTACH;FMTTYPE=image/png:https://stmaryathill.org/wp-content/uploads/2025/05/SALC-Logo-e1747645026859.png
ORGANIZER;CN="St Anne's Lutheran Church":MAILTO:admin@stanneslutheranchurch.org.uk
END:VEVENT
BEGIN:VEVENT
DTSTART;TZID=Europe/London:20281009T131500
DTEND;TZID=Europe/London:20281009T140000
DTSTAMP:20260423T192226
CREATED:20240527T122507Z
LAST-MODIFIED:20251217T170651Z
UID:10001758-1854710100-1854712800@stmaryathill.org
SUMMARY:Holy Communion - Anglican
DESCRIPTION:A short service of Holy Communion takes place every Monday at 1.15pm where we pray and worship together.
URL:https://stmaryathill.org/event/holy-communion-2/2028-10-09/
LOCATION:St Mary-at-Hill Church\, Lovat Lane\, Eastcheap\, London\, EC3R 8EE\, United Kingdom
ATTACH;FMTTYPE=image/jpeg:https://stmaryathill.org/wp-content/uploads/2023/01/Stmarys-team-8-e1730987366516.jpg
ORGANIZER;CN="St Mary-at-Hill Church":MAILTO:admin@stmary-at-hill.org
END:VEVENT
BEGIN:VEVENT
DTSTART;TZID=Europe/London:20281011T130000
DTEND;TZID=Europe/London:20281011T133000
DTSTAMP:20260423T192226
CREATED:20250305T125917Z
LAST-MODIFIED:20251217T170934Z
UID:10001459-1854882000-1854883800@stmaryathill.org
SUMMARY:Live Music Series
DESCRIPTION:Live music recital in association with Guildhall School.
URL:https://stmaryathill.org/event/live-music-series/2028-10-11/
ATTACH;FMTTYPE=image/jpeg:https://stmaryathill.org/wp-content/uploads/2025/03/Lot-10_Steinway-Sons-Grand-Piano_3.jpg
END:VEVENT
BEGIN:VEVENT
DTSTART;TZID=Europe/London:20281015T110000
DTEND;TZID=Europe/London:20281015T120000
DTSTAMP:20260423T192226
CREATED:20250818T183251Z
LAST-MODIFIED:20250818T183251Z
UID:10001211-1855220400-1855224000@stmaryathill.org
SUMMARY:Communion Service - Lutheran
DESCRIPTION:Lutheran Holy Communion service in English\, a time of fellowship and refreshments will follow the service. The service is livestreamed on Facebook: https://www.facebook.com/StAnnesLutheranChurch \nSt Anne’s Lutheran Church is based at St Mary-at-Hill Church\, Lovat Lane\, EC3R 8EB
URL:https://stmaryathill.org/event/communion-service-lutheran-2/2028-10-15/
LOCATION:St Mary-at-Hill Church\, Lovat Lane\, Eastcheap\, London\, EC3R 8EE\, United Kingdom
ATTACH;FMTTYPE=image/png:https://stmaryathill.org/wp-content/uploads/2025/05/SALC-Logo-e1747645026859.png
ORGANIZER;CN="St Anne's Lutheran Church":MAILTO:admin@stanneslutheranchurch.org.uk
END:VEVENT
BEGIN:VEVENT
DTSTART;TZID=Europe/London:20281016T131500
DTEND;TZID=Europe/London:20281016T140000
DTSTAMP:20260423T192226
CREATED:20240527T122507Z
LAST-MODIFIED:20251217T170651Z
UID:10001759-1855314900-1855317600@stmaryathill.org
SUMMARY:Holy Communion - Anglican
DESCRIPTION:A short service of Holy Communion takes place every Monday at 1.15pm where we pray and worship together.
URL:https://stmaryathill.org/event/holy-communion-2/2028-10-16/
LOCATION:St Mary-at-Hill Church\, Lovat Lane\, Eastcheap\, London\, EC3R 8EE\, United Kingdom
ATTACH;FMTTYPE=image/jpeg:https://stmaryathill.org/wp-content/uploads/2023/01/Stmarys-team-8-e1730987366516.jpg
ORGANIZER;CN="St Mary-at-Hill Church":MAILTO:admin@stmary-at-hill.org
END:VEVENT
BEGIN:VEVENT
DTSTART;TZID=Europe/London:20281018T130000
DTEND;TZID=Europe/London:20281018T133000
DTSTAMP:20260423T192226
CREATED:20250305T125917Z
LAST-MODIFIED:20251217T170934Z
UID:10001460-1855486800-1855488600@stmaryathill.org
SUMMARY:Live Music Series
DESCRIPTION:Live music recital in association with Guildhall School.
URL:https://stmaryathill.org/event/live-music-series/2028-10-18/
ATTACH;FMTTYPE=image/jpeg:https://stmaryathill.org/wp-content/uploads/2025/03/Lot-10_Steinway-Sons-Grand-Piano_3.jpg
END:VEVENT
BEGIN:VEVENT
DTSTART;TZID=Europe/London:20281022T110000
DTEND;TZID=Europe/London:20281022T120000
DTSTAMP:20260423T192226
CREATED:20250818T183251Z
LAST-MODIFIED:20250818T183251Z
UID:10001212-1855825200-1855828800@stmaryathill.org
SUMMARY:Communion Service - Lutheran
DESCRIPTION:Lutheran Holy Communion service in English\, a time of fellowship and refreshments will follow the service. The service is livestreamed on Facebook: https://www.facebook.com/StAnnesLutheranChurch \nSt Anne’s Lutheran Church is based at St Mary-at-Hill Church\, Lovat Lane\, EC3R 8EB
URL:https://stmaryathill.org/event/communion-service-lutheran-2/2028-10-22/
LOCATION:St Mary-at-Hill Church\, Lovat Lane\, Eastcheap\, London\, EC3R 8EE\, United Kingdom
ATTACH;FMTTYPE=image/png:https://stmaryathill.org/wp-content/uploads/2025/05/SALC-Logo-e1747645026859.png
ORGANIZER;CN="St Anne's Lutheran Church":MAILTO:admin@stanneslutheranchurch.org.uk
END:VEVENT
BEGIN:VEVENT
DTSTART;TZID=Europe/London:20281023T131500
DTEND;TZID=Europe/London:20281023T140000
DTSTAMP:20260423T192226
CREATED:20240527T122507Z
LAST-MODIFIED:20251217T170651Z
UID:10001760-1855919700-1855922400@stmaryathill.org
SUMMARY:Holy Communion - Anglican
DESCRIPTION:A short service of Holy Communion takes place every Monday at 1.15pm where we pray and worship together.
URL:https://stmaryathill.org/event/holy-communion-2/2028-10-23/
LOCATION:St Mary-at-Hill Church\, Lovat Lane\, Eastcheap\, London\, EC3R 8EE\, United Kingdom
ATTACH;FMTTYPE=image/jpeg:https://stmaryathill.org/wp-content/uploads/2023/01/Stmarys-team-8-e1730987366516.jpg
ORGANIZER;CN="St Mary-at-Hill Church":MAILTO:admin@stmary-at-hill.org
END:VEVENT
BEGIN:VEVENT
DTSTART;TZID=Europe/London:20281025T130000
DTEND;TZID=Europe/London:20281025T133000
DTSTAMP:20260423T192226
CREATED:20250305T125917Z
LAST-MODIFIED:20251217T170934Z
UID:10001461-1856091600-1856093400@stmaryathill.org
SUMMARY:Live Music Series
DESCRIPTION:Live music recital in association with Guildhall School.
URL:https://stmaryathill.org/event/live-music-series/2028-10-25/
ATTACH;FMTTYPE=image/jpeg:https://stmaryathill.org/wp-content/uploads/2025/03/Lot-10_Steinway-Sons-Grand-Piano_3.jpg
END:VEVENT
BEGIN:VEVENT
DTSTART;TZID=Europe/London:20281029T110000
DTEND;TZID=Europe/London:20281029T120000
DTSTAMP:20260423T192226
CREATED:20250818T183251Z
LAST-MODIFIED:20250818T183251Z
UID:10001213-1856430000-1856433600@stmaryathill.org
SUMMARY:Communion Service - Lutheran
DESCRIPTION:Lutheran Holy Communion service in English\, a time of fellowship and refreshments will follow the service. The service is livestreamed on Facebook: https://www.facebook.com/StAnnesLutheranChurch \nSt Anne’s Lutheran Church is based at St Mary-at-Hill Church\, Lovat Lane\, EC3R 8EB
URL:https://stmaryathill.org/event/communion-service-lutheran-2/2028-10-29/
LOCATION:St Mary-at-Hill Church\, Lovat Lane\, Eastcheap\, London\, EC3R 8EE\, United Kingdom
ATTACH;FMTTYPE=image/png:https://stmaryathill.org/wp-content/uploads/2025/05/SALC-Logo-e1747645026859.png
ORGANIZER;CN="St Anne's Lutheran Church":MAILTO:admin@stanneslutheranchurch.org.uk
END:VEVENT
BEGIN:VEVENT
DTSTART;TZID=Europe/London:20281030T131500
DTEND;TZID=Europe/London:20281030T140000
DTSTAMP:20260423T192226
CREATED:20240527T122507Z
LAST-MODIFIED:20251217T170651Z
UID:10001761-1856524500-1856527200@stmaryathill.org
SUMMARY:Holy Communion - Anglican
DESCRIPTION:A short service of Holy Communion takes place every Monday at 1.15pm where we pray and worship together.
URL:https://stmaryathill.org/event/holy-communion-2/2028-10-30/
LOCATION:St Mary-at-Hill Church\, Lovat Lane\, Eastcheap\, London\, EC3R 8EE\, United Kingdom
ATTACH;FMTTYPE=image/jpeg:https://stmaryathill.org/wp-content/uploads/2023/01/Stmarys-team-8-e1730987366516.jpg
ORGANIZER;CN="St Mary-at-Hill Church":MAILTO:admin@stmary-at-hill.org
END:VEVENT
BEGIN:VEVENT
DTSTART;TZID=Europe/London:20281101T130000
DTEND;TZID=Europe/London:20281101T133000
DTSTAMP:20260423T192226
CREATED:20250305T125917Z
LAST-MODIFIED:20251217T170934Z
UID:10001462-1856696400-1856698200@stmaryathill.org
SUMMARY:Live Music Series
DESCRIPTION:Live music recital in association with Guildhall School.
URL:https://stmaryathill.org/event/live-music-series/2028-11-01/
ATTACH;FMTTYPE=image/jpeg:https://stmaryathill.org/wp-content/uploads/2025/03/Lot-10_Steinway-Sons-Grand-Piano_3.jpg
END:VEVENT
BEGIN:VEVENT
DTSTART;TZID=Europe/London:20281105T110000
DTEND;TZID=Europe/London:20281105T120000
DTSTAMP:20260423T192226
CREATED:20250818T183251Z
LAST-MODIFIED:20250818T183251Z
UID:10001214-1857034800-1857038400@stmaryathill.org
SUMMARY:Communion Service - Lutheran
DESCRIPTION:Lutheran Holy Communion service in English\, a time of fellowship and refreshments will follow the service. The service is livestreamed on Facebook: https://www.facebook.com/StAnnesLutheranChurch \nSt Anne’s Lutheran Church is based at St Mary-at-Hill Church\, Lovat Lane\, EC3R 8EB
URL:https://stmaryathill.org/event/communion-service-lutheran-2/2028-11-05/
LOCATION:St Mary-at-Hill Church\, Lovat Lane\, Eastcheap\, London\, EC3R 8EE\, United Kingdom
ATTACH;FMTTYPE=image/png:https://stmaryathill.org/wp-content/uploads/2025/05/SALC-Logo-e1747645026859.png
ORGANIZER;CN="St Anne's Lutheran Church":MAILTO:admin@stanneslutheranchurch.org.uk
END:VEVENT
END:VCALENDAR