BEGIN:VCALENDAR
VERSION:2.0
PRODID:-//St Mary-at-Hill - ECPv6.10.2//NONSGML v1.0//EN
CALSCALE:GREGORIAN
METHOD:PUBLISH
X-ORIGINAL-URL:https://stmaryathill.org
X-WR-CALDESC:Events for St Mary-at-Hill
REFRESH-INTERVAL;VALUE=DURATION:PT1H
X-Robots-Tag:noindex
X-PUBLISHED-TTL:PT1H
BEGIN:VTIMEZONE
TZID:Europe/London
BEGIN:DAYLIGHT
TZOFFSETFROM:+0000
TZOFFSETTO:+0100
TZNAME:BST
DTSTART:20260329T010000
END:DAYLIGHT
BEGIN:STANDARD
TZOFFSETFROM:+0100
TZOFFSETTO:+0000
TZNAME:GMT
DTSTART:20261025T010000
END:STANDARD
END:VTIMEZONE
BEGIN:VEVENT
DTSTART;TZID=Europe/London:20260401T130000
DTEND;TZID=Europe/London:20260401T133000
DTSTAMP:20260423T172756
CREATED:20250305T125917Z
LAST-MODIFIED:20251217T170934Z
UID:10001327-1775048400-1775050200@stmaryathill.org
SUMMARY:Live Music Series
DESCRIPTION:Live music recital in association with Guildhall School.
URL:https://stmaryathill.org/event/live-music-series/2026-04-01/
ATTACH;FMTTYPE=image/jpeg:https://stmaryathill.org/wp-content/uploads/2025/03/Lot-10_Steinway-Sons-Grand-Piano_3.jpg
END:VEVENT
BEGIN:VEVENT
DTSTART;TZID=Europe/London:20260405T110000
DTEND;TZID=Europe/London:20260405T120000
DTSTAMP:20260423T172756
CREATED:20250818T183251Z
LAST-MODIFIED:20250818T183251Z
UID:10001079-1775386800-1775390400@stmaryathill.org
SUMMARY:Communion Service - Lutheran
DESCRIPTION:Lutheran Holy Communion service in English\, a time of fellowship and refreshments will follow the service. The service is livestreamed on Facebook: https://www.facebook.com/StAnnesLutheranChurch \nSt Anne’s Lutheran Church is based at St Mary-at-Hill Church\, Lovat Lane\, EC3R 8EB
URL:https://stmaryathill.org/event/communion-service-lutheran-2/2026-04-05/
LOCATION:St Mary-at-Hill Church\, Lovat Lane\, Eastcheap\, London\, EC3R 8EE\, United Kingdom
ATTACH;FMTTYPE=image/png:https://stmaryathill.org/wp-content/uploads/2025/05/SALC-Logo-e1747645026859.png
ORGANIZER;CN="St Anne's Lutheran Church":MAILTO:admin@stanneslutheranchurch.org.uk
END:VEVENT
BEGIN:VEVENT
DTSTART;TZID=Europe/London:20260406T131500
DTEND;TZID=Europe/London:20260406T140000
DTSTAMP:20260423T172756
CREATED:20240527T122507Z
LAST-MODIFIED:20251217T170651Z
UID:10001627-1775481300-1775484000@stmaryathill.org
SUMMARY:Holy Communion - Anglican
DESCRIPTION:A short service of Holy Communion takes place every Monday at 1.15pm where we pray and worship together.
URL:https://stmaryathill.org/event/holy-communion-2/2026-04-06/
LOCATION:St Mary-at-Hill Church\, Lovat Lane\, Eastcheap\, London\, EC3R 8EE\, United Kingdom
ATTACH;FMTTYPE=image/jpeg:https://stmaryathill.org/wp-content/uploads/2023/01/Stmarys-team-8-e1730987366516.jpg
ORGANIZER;CN="St Mary-at-Hill Church":MAILTO:admin@stmary-at-hill.org
END:VEVENT
BEGIN:VEVENT
DTSTART;TZID=Europe/London:20260408T130000
DTEND;TZID=Europe/London:20260408T133000
DTSTAMP:20260423T172756
CREATED:20250305T125917Z
LAST-MODIFIED:20251217T170934Z
UID:10001328-1775653200-1775655000@stmaryathill.org
SUMMARY:Live Music Series
DESCRIPTION:Live music recital in association with Guildhall School.
URL:https://stmaryathill.org/event/live-music-series/2026-04-08/
ATTACH;FMTTYPE=image/jpeg:https://stmaryathill.org/wp-content/uploads/2025/03/Lot-10_Steinway-Sons-Grand-Piano_3.jpg
END:VEVENT
BEGIN:VEVENT
DTSTART;TZID=Europe/London:20260412T110000
DTEND;TZID=Europe/London:20260412T120000
DTSTAMP:20260423T172756
CREATED:20250818T183251Z
LAST-MODIFIED:20250818T183251Z
UID:10001080-1775991600-1775995200@stmaryathill.org
SUMMARY:Communion Service - Lutheran
DESCRIPTION:Lutheran Holy Communion service in English\, a time of fellowship and refreshments will follow the service. The service is livestreamed on Facebook: https://www.facebook.com/StAnnesLutheranChurch \nSt Anne’s Lutheran Church is based at St Mary-at-Hill Church\, Lovat Lane\, EC3R 8EB
URL:https://stmaryathill.org/event/communion-service-lutheran-2/2026-04-12/
LOCATION:St Mary-at-Hill Church\, Lovat Lane\, Eastcheap\, London\, EC3R 8EE\, United Kingdom
ATTACH;FMTTYPE=image/png:https://stmaryathill.org/wp-content/uploads/2025/05/SALC-Logo-e1747645026859.png
ORGANIZER;CN="St Anne's Lutheran Church":MAILTO:admin@stanneslutheranchurch.org.uk
END:VEVENT
BEGIN:VEVENT
DTSTART;TZID=Europe/London:20260413T131500
DTEND;TZID=Europe/London:20260413T140000
DTSTAMP:20260423T172756
CREATED:20240527T122507Z
LAST-MODIFIED:20251217T170651Z
UID:10001628-1776086100-1776088800@stmaryathill.org
SUMMARY:Holy Communion - Anglican
DESCRIPTION:A short service of Holy Communion takes place every Monday at 1.15pm where we pray and worship together.
URL:https://stmaryathill.org/event/holy-communion-2/2026-04-13/
LOCATION:St Mary-at-Hill Church\, Lovat Lane\, Eastcheap\, London\, EC3R 8EE\, United Kingdom
ATTACH;FMTTYPE=image/jpeg:https://stmaryathill.org/wp-content/uploads/2023/01/Stmarys-team-8-e1730987366516.jpg
ORGANIZER;CN="St Mary-at-Hill Church":MAILTO:admin@stmary-at-hill.org
END:VEVENT
BEGIN:VEVENT
DTSTART;TZID=Europe/London:20260415T130000
DTEND;TZID=Europe/London:20260415T133000
DTSTAMP:20260423T172756
CREATED:20250305T125917Z
LAST-MODIFIED:20251217T170934Z
UID:10001329-1776258000-1776259800@stmaryathill.org
SUMMARY:Live Music Series
DESCRIPTION:Live music recital in association with Guildhall School.
URL:https://stmaryathill.org/event/live-music-series/2026-04-15/
ATTACH;FMTTYPE=image/jpeg:https://stmaryathill.org/wp-content/uploads/2025/03/Lot-10_Steinway-Sons-Grand-Piano_3.jpg
END:VEVENT
BEGIN:VEVENT
DTSTART;TZID=Europe/London:20260419T110000
DTEND;TZID=Europe/London:20260419T120000
DTSTAMP:20260423T172756
CREATED:20250818T183251Z
LAST-MODIFIED:20250818T183251Z
UID:10001081-1776596400-1776600000@stmaryathill.org
SUMMARY:Communion Service - Lutheran
DESCRIPTION:Lutheran Holy Communion service in English\, a time of fellowship and refreshments will follow the service. The service is livestreamed on Facebook: https://www.facebook.com/StAnnesLutheranChurch \nSt Anne’s Lutheran Church is based at St Mary-at-Hill Church\, Lovat Lane\, EC3R 8EB
URL:https://stmaryathill.org/event/communion-service-lutheran-2/2026-04-19/
LOCATION:St Mary-at-Hill Church\, Lovat Lane\, Eastcheap\, London\, EC3R 8EE\, United Kingdom
ATTACH;FMTTYPE=image/png:https://stmaryathill.org/wp-content/uploads/2025/05/SALC-Logo-e1747645026859.png
ORGANIZER;CN="St Anne's Lutheran Church":MAILTO:admin@stanneslutheranchurch.org.uk
END:VEVENT
BEGIN:VEVENT
DTSTART;TZID=Europe/London:20260419T183000
DTEND;TZID=Europe/London:20260419T213000
DTSTAMP:20260423T172756
CREATED:20260401T120238Z
LAST-MODIFIED:20260401T120310Z
UID:10001932-1776623400-1776634200@stmaryathill.org
SUMMARY:Hertfordshire Chamber Orchestra
DESCRIPTION:Alvin Arumugam conductor\nAriana Kashefi solo cello\nJohn Crawford leader\nCherubini Médée overture\nSaint-Saëns Cello Concerto No.1\nTchaikovsky Suite No. 1 in D minor \nTickets\n£20\, under 16s free\, card or cash on the door or in advance from We Got Tickets
URL:https://stmaryathill.org/event/hertfordshire-chamber-orchestra/
ATTACH;FMTTYPE=image/jpeg:https://stmaryathill.org/wp-content/uploads/2026/04/19-April-2026-Hertfordshire-Chamber-orchestra-Concert-SMAH.jpg
END:VEVENT
BEGIN:VEVENT
DTSTART;TZID=Europe/London:20260420T131500
DTEND;TZID=Europe/London:20260420T140000
DTSTAMP:20260423T172756
CREATED:20240527T122507Z
LAST-MODIFIED:20251217T170651Z
UID:10001629-1776690900-1776693600@stmaryathill.org
SUMMARY:Holy Communion - Anglican
DESCRIPTION:A short service of Holy Communion takes place every Monday at 1.15pm where we pray and worship together.
URL:https://stmaryathill.org/event/holy-communion-2/2026-04-20/
LOCATION:St Mary-at-Hill Church\, Lovat Lane\, Eastcheap\, London\, EC3R 8EE\, United Kingdom
ATTACH;FMTTYPE=image/jpeg:https://stmaryathill.org/wp-content/uploads/2023/01/Stmarys-team-8-e1730987366516.jpg
ORGANIZER;CN="St Mary-at-Hill Church":MAILTO:admin@stmary-at-hill.org
END:VEVENT
BEGIN:VEVENT
DTSTART;TZID=Europe/London:20260422T130000
DTEND;TZID=Europe/London:20260422T133000
DTSTAMP:20260423T172756
CREATED:20250305T125917Z
LAST-MODIFIED:20251217T170934Z
UID:10001330-1776862800-1776864600@stmaryathill.org
SUMMARY:Live Music Series
DESCRIPTION:Live music recital in association with Guildhall School.
URL:https://stmaryathill.org/event/live-music-series/2026-04-22/
ATTACH;FMTTYPE=image/jpeg:https://stmaryathill.org/wp-content/uploads/2025/03/Lot-10_Steinway-Sons-Grand-Piano_3.jpg
END:VEVENT
BEGIN:VEVENT
DTSTART;TZID=Europe/London:20260426T110000
DTEND;TZID=Europe/London:20260426T120000
DTSTAMP:20260423T172756
CREATED:20250818T183251Z
LAST-MODIFIED:20250818T183251Z
UID:10001082-1777201200-1777204800@stmaryathill.org
SUMMARY:Communion Service - Lutheran
DESCRIPTION:Lutheran Holy Communion service in English\, a time of fellowship and refreshments will follow the service. The service is livestreamed on Facebook: https://www.facebook.com/StAnnesLutheranChurch \nSt Anne’s Lutheran Church is based at St Mary-at-Hill Church\, Lovat Lane\, EC3R 8EB
URL:https://stmaryathill.org/event/communion-service-lutheran-2/2026-04-26/
LOCATION:St Mary-at-Hill Church\, Lovat Lane\, Eastcheap\, London\, EC3R 8EE\, United Kingdom
ATTACH;FMTTYPE=image/png:https://stmaryathill.org/wp-content/uploads/2025/05/SALC-Logo-e1747645026859.png
ORGANIZER;CN="St Anne's Lutheran Church":MAILTO:admin@stanneslutheranchurch.org.uk
END:VEVENT
BEGIN:VEVENT
DTSTART;TZID=Europe/London:20260427T131500
DTEND;TZID=Europe/London:20260427T140000
DTSTAMP:20260423T172756
CREATED:20240527T122507Z
LAST-MODIFIED:20251217T170651Z
UID:10001630-1777295700-1777298400@stmaryathill.org
SUMMARY:Holy Communion - Anglican
DESCRIPTION:A short service of Holy Communion takes place every Monday at 1.15pm where we pray and worship together.
URL:https://stmaryathill.org/event/holy-communion-2/2026-04-27/
LOCATION:St Mary-at-Hill Church\, Lovat Lane\, Eastcheap\, London\, EC3R 8EE\, United Kingdom
ATTACH;FMTTYPE=image/jpeg:https://stmaryathill.org/wp-content/uploads/2023/01/Stmarys-team-8-e1730987366516.jpg
ORGANIZER;CN="St Mary-at-Hill Church":MAILTO:admin@stmary-at-hill.org
END:VEVENT
BEGIN:VEVENT
DTSTART;TZID=Europe/London:20260429T130000
DTEND;TZID=Europe/London:20260429T133000
DTSTAMP:20260423T172756
CREATED:20250305T125917Z
LAST-MODIFIED:20251217T170934Z
UID:10001331-1777467600-1777469400@stmaryathill.org
SUMMARY:Live Music Series
DESCRIPTION:Live music recital in association with Guildhall School.
URL:https://stmaryathill.org/event/live-music-series/2026-04-29/
ATTACH;FMTTYPE=image/jpeg:https://stmaryathill.org/wp-content/uploads/2025/03/Lot-10_Steinway-Sons-Grand-Piano_3.jpg
END:VEVENT
BEGIN:VEVENT
DTSTART;TZID=Europe/London:20260503T110000
DTEND;TZID=Europe/London:20260503T120000
DTSTAMP:20260423T172756
CREATED:20250818T183251Z
LAST-MODIFIED:20250818T183251Z
UID:10001083-1777806000-1777809600@stmaryathill.org
SUMMARY:Communion Service - Lutheran
DESCRIPTION:Lutheran Holy Communion service in English\, a time of fellowship and refreshments will follow the service. The service is livestreamed on Facebook: https://www.facebook.com/StAnnesLutheranChurch \nSt Anne’s Lutheran Church is based at St Mary-at-Hill Church\, Lovat Lane\, EC3R 8EB
URL:https://stmaryathill.org/event/communion-service-lutheran-2/2026-05-03/
LOCATION:St Mary-at-Hill Church\, Lovat Lane\, Eastcheap\, London\, EC3R 8EE\, United Kingdom
ATTACH;FMTTYPE=image/png:https://stmaryathill.org/wp-content/uploads/2025/05/SALC-Logo-e1747645026859.png
ORGANIZER;CN="St Anne's Lutheran Church":MAILTO:admin@stanneslutheranchurch.org.uk
END:VEVENT
BEGIN:VEVENT
DTSTART;TZID=Europe/London:20260504T131500
DTEND;TZID=Europe/London:20260504T140000
DTSTAMP:20260423T172756
CREATED:20240527T122507Z
LAST-MODIFIED:20251217T170651Z
UID:10001631-1777900500-1777903200@stmaryathill.org
SUMMARY:Holy Communion - Anglican
DESCRIPTION:A short service of Holy Communion takes place every Monday at 1.15pm where we pray and worship together.
URL:https://stmaryathill.org/event/holy-communion-2/2026-05-04/
LOCATION:St Mary-at-Hill Church\, Lovat Lane\, Eastcheap\, London\, EC3R 8EE\, United Kingdom
ATTACH;FMTTYPE=image/jpeg:https://stmaryathill.org/wp-content/uploads/2023/01/Stmarys-team-8-e1730987366516.jpg
ORGANIZER;CN="St Mary-at-Hill Church":MAILTO:admin@stmary-at-hill.org
END:VEVENT
BEGIN:VEVENT
DTSTART;TZID=Europe/London:20260506T130000
DTEND;TZID=Europe/London:20260506T133000
DTSTAMP:20260423T172756
CREATED:20250305T125917Z
LAST-MODIFIED:20251217T170934Z
UID:10001332-1778072400-1778074200@stmaryathill.org
SUMMARY:Live Music Series
DESCRIPTION:Live music recital in association with Guildhall School.
URL:https://stmaryathill.org/event/live-music-series/2026-05-06/
ATTACH;FMTTYPE=image/jpeg:https://stmaryathill.org/wp-content/uploads/2025/03/Lot-10_Steinway-Sons-Grand-Piano_3.jpg
END:VEVENT
BEGIN:VEVENT
DTSTART;TZID=Europe/London:20260510T110000
DTEND;TZID=Europe/London:20260510T120000
DTSTAMP:20260423T172756
CREATED:20250818T183251Z
LAST-MODIFIED:20250818T183251Z
UID:10001084-1778410800-1778414400@stmaryathill.org
SUMMARY:Communion Service - Lutheran
DESCRIPTION:Lutheran Holy Communion service in English\, a time of fellowship and refreshments will follow the service. The service is livestreamed on Facebook: https://www.facebook.com/StAnnesLutheranChurch \nSt Anne’s Lutheran Church is based at St Mary-at-Hill Church\, Lovat Lane\, EC3R 8EB
URL:https://stmaryathill.org/event/communion-service-lutheran-2/2026-05-10/
LOCATION:St Mary-at-Hill Church\, Lovat Lane\, Eastcheap\, London\, EC3R 8EE\, United Kingdom
ATTACH;FMTTYPE=image/png:https://stmaryathill.org/wp-content/uploads/2025/05/SALC-Logo-e1747645026859.png
ORGANIZER;CN="St Anne's Lutheran Church":MAILTO:admin@stanneslutheranchurch.org.uk
END:VEVENT
BEGIN:VEVENT
DTSTART;TZID=Europe/London:20260511T131500
DTEND;TZID=Europe/London:20260511T140000
DTSTAMP:20260423T172756
CREATED:20240527T122507Z
LAST-MODIFIED:20251217T170651Z
UID:10001632-1778505300-1778508000@stmaryathill.org
SUMMARY:Holy Communion - Anglican
DESCRIPTION:A short service of Holy Communion takes place every Monday at 1.15pm where we pray and worship together.
URL:https://stmaryathill.org/event/holy-communion-2/2026-05-11/
LOCATION:St Mary-at-Hill Church\, Lovat Lane\, Eastcheap\, London\, EC3R 8EE\, United Kingdom
ATTACH;FMTTYPE=image/jpeg:https://stmaryathill.org/wp-content/uploads/2023/01/Stmarys-team-8-e1730987366516.jpg
ORGANIZER;CN="St Mary-at-Hill Church":MAILTO:admin@stmary-at-hill.org
END:VEVENT
BEGIN:VEVENT
DTSTART;TZID=Europe/London:20260513T130000
DTEND;TZID=Europe/London:20260513T133000
DTSTAMP:20260423T172756
CREATED:20250305T125917Z
LAST-MODIFIED:20251217T170934Z
UID:10001333-1778677200-1778679000@stmaryathill.org
SUMMARY:Live Music Series
DESCRIPTION:Live music recital in association with Guildhall School.
URL:https://stmaryathill.org/event/live-music-series/2026-05-13/
ATTACH;FMTTYPE=image/jpeg:https://stmaryathill.org/wp-content/uploads/2025/03/Lot-10_Steinway-Sons-Grand-Piano_3.jpg
END:VEVENT
BEGIN:VEVENT
DTSTART;TZID=Europe/London:20260517T110000
DTEND;TZID=Europe/London:20260517T120000
DTSTAMP:20260423T172756
CREATED:20250818T183251Z
LAST-MODIFIED:20250818T183251Z
UID:10001085-1779015600-1779019200@stmaryathill.org
SUMMARY:Communion Service - Lutheran
DESCRIPTION:Lutheran Holy Communion service in English\, a time of fellowship and refreshments will follow the service. The service is livestreamed on Facebook: https://www.facebook.com/StAnnesLutheranChurch \nSt Anne’s Lutheran Church is based at St Mary-at-Hill Church\, Lovat Lane\, EC3R 8EB
URL:https://stmaryathill.org/event/communion-service-lutheran-2/2026-05-17/
LOCATION:St Mary-at-Hill Church\, Lovat Lane\, Eastcheap\, London\, EC3R 8EE\, United Kingdom
ATTACH;FMTTYPE=image/png:https://stmaryathill.org/wp-content/uploads/2025/05/SALC-Logo-e1747645026859.png
ORGANIZER;CN="St Anne's Lutheran Church":MAILTO:admin@stanneslutheranchurch.org.uk
END:VEVENT
BEGIN:VEVENT
DTSTART;TZID=Europe/London:20260518T131500
DTEND;TZID=Europe/London:20260518T140000
DTSTAMP:20260423T172756
CREATED:20240527T122507Z
LAST-MODIFIED:20251217T170651Z
UID:10001633-1779110100-1779112800@stmaryathill.org
SUMMARY:Holy Communion - Anglican
DESCRIPTION:A short service of Holy Communion takes place every Monday at 1.15pm where we pray and worship together.
URL:https://stmaryathill.org/event/holy-communion-2/2026-05-18/
LOCATION:St Mary-at-Hill Church\, Lovat Lane\, Eastcheap\, London\, EC3R 8EE\, United Kingdom
ATTACH;FMTTYPE=image/jpeg:https://stmaryathill.org/wp-content/uploads/2023/01/Stmarys-team-8-e1730987366516.jpg
ORGANIZER;CN="St Mary-at-Hill Church":MAILTO:admin@stmary-at-hill.org
END:VEVENT
BEGIN:VEVENT
DTSTART;TZID=Europe/London:20260520T130000
DTEND;TZID=Europe/London:20260520T133000
DTSTAMP:20260423T172756
CREATED:20250305T125917Z
LAST-MODIFIED:20251217T170934Z
UID:10001334-1779282000-1779283800@stmaryathill.org
SUMMARY:Live Music Series
DESCRIPTION:Live music recital in association with Guildhall School.
URL:https://stmaryathill.org/event/live-music-series/2026-05-20/
ATTACH;FMTTYPE=image/jpeg:https://stmaryathill.org/wp-content/uploads/2025/03/Lot-10_Steinway-Sons-Grand-Piano_3.jpg
END:VEVENT
BEGIN:VEVENT
DTSTART;TZID=Europe/London:20260524T110000
DTEND;TZID=Europe/London:20260524T120000
DTSTAMP:20260423T172756
CREATED:20250818T183251Z
LAST-MODIFIED:20250818T183251Z
UID:10001086-1779620400-1779624000@stmaryathill.org
SUMMARY:Communion Service - Lutheran
DESCRIPTION:Lutheran Holy Communion service in English\, a time of fellowship and refreshments will follow the service. The service is livestreamed on Facebook: https://www.facebook.com/StAnnesLutheranChurch \nSt Anne’s Lutheran Church is based at St Mary-at-Hill Church\, Lovat Lane\, EC3R 8EB
URL:https://stmaryathill.org/event/communion-service-lutheran-2/2026-05-24/
LOCATION:St Mary-at-Hill Church\, Lovat Lane\, Eastcheap\, London\, EC3R 8EE\, United Kingdom
ATTACH;FMTTYPE=image/png:https://stmaryathill.org/wp-content/uploads/2025/05/SALC-Logo-e1747645026859.png
ORGANIZER;CN="St Anne's Lutheran Church":MAILTO:admin@stanneslutheranchurch.org.uk
END:VEVENT
BEGIN:VEVENT
DTSTART;TZID=Europe/London:20260525T131500
DTEND;TZID=Europe/London:20260525T140000
DTSTAMP:20260423T172756
CREATED:20240527T122507Z
LAST-MODIFIED:20251217T170651Z
UID:10001634-1779714900-1779717600@stmaryathill.org
SUMMARY:Holy Communion - Anglican
DESCRIPTION:A short service of Holy Communion takes place every Monday at 1.15pm where we pray and worship together.
URL:https://stmaryathill.org/event/holy-communion-2/2026-05-25/
LOCATION:St Mary-at-Hill Church\, Lovat Lane\, Eastcheap\, London\, EC3R 8EE\, United Kingdom
ATTACH;FMTTYPE=image/jpeg:https://stmaryathill.org/wp-content/uploads/2023/01/Stmarys-team-8-e1730987366516.jpg
ORGANIZER;CN="St Mary-at-Hill Church":MAILTO:admin@stmary-at-hill.org
END:VEVENT
BEGIN:VEVENT
DTSTART;TZID=Europe/London:20260527T130000
DTEND;TZID=Europe/London:20260527T133000
DTSTAMP:20260423T172756
CREATED:20250305T125917Z
LAST-MODIFIED:20251217T170934Z
UID:10001335-1779886800-1779888600@stmaryathill.org
SUMMARY:Live Music Series
DESCRIPTION:Live music recital in association with Guildhall School.
URL:https://stmaryathill.org/event/live-music-series/2026-05-27/
ATTACH;FMTTYPE=image/jpeg:https://stmaryathill.org/wp-content/uploads/2025/03/Lot-10_Steinway-Sons-Grand-Piano_3.jpg
END:VEVENT
BEGIN:VEVENT
DTSTART;TZID=Europe/London:20260531T110000
DTEND;TZID=Europe/London:20260531T120000
DTSTAMP:20260423T172756
CREATED:20250818T183251Z
LAST-MODIFIED:20250818T183251Z
UID:10001087-1780225200-1780228800@stmaryathill.org
SUMMARY:Communion Service - Lutheran
DESCRIPTION:Lutheran Holy Communion service in English\, a time of fellowship and refreshments will follow the service. The service is livestreamed on Facebook: https://www.facebook.com/StAnnesLutheranChurch \nSt Anne’s Lutheran Church is based at St Mary-at-Hill Church\, Lovat Lane\, EC3R 8EB
URL:https://stmaryathill.org/event/communion-service-lutheran-2/2026-05-31/
LOCATION:St Mary-at-Hill Church\, Lovat Lane\, Eastcheap\, London\, EC3R 8EE\, United Kingdom
ATTACH;FMTTYPE=image/png:https://stmaryathill.org/wp-content/uploads/2025/05/SALC-Logo-e1747645026859.png
ORGANIZER;CN="St Anne's Lutheran Church":MAILTO:admin@stanneslutheranchurch.org.uk
END:VEVENT
BEGIN:VEVENT
DTSTART;TZID=Europe/London:20260601T131500
DTEND;TZID=Europe/London:20260601T140000
DTSTAMP:20260423T172756
CREATED:20240527T122507Z
LAST-MODIFIED:20251217T170651Z
UID:10001635-1780319700-1780322400@stmaryathill.org
SUMMARY:Holy Communion - Anglican
DESCRIPTION:A short service of Holy Communion takes place every Monday at 1.15pm where we pray and worship together.
URL:https://stmaryathill.org/event/holy-communion-2/2026-06-01/
LOCATION:St Mary-at-Hill Church\, Lovat Lane\, Eastcheap\, London\, EC3R 8EE\, United Kingdom
ATTACH;FMTTYPE=image/jpeg:https://stmaryathill.org/wp-content/uploads/2023/01/Stmarys-team-8-e1730987366516.jpg
ORGANIZER;CN="St Mary-at-Hill Church":MAILTO:admin@stmary-at-hill.org
END:VEVENT
BEGIN:VEVENT
DTSTART;TZID=Europe/London:20260603T130000
DTEND;TZID=Europe/London:20260603T133000
DTSTAMP:20260423T172756
CREATED:20250305T125917Z
LAST-MODIFIED:20251217T170934Z
UID:10001336-1780491600-1780493400@stmaryathill.org
SUMMARY:Live Music Series
DESCRIPTION:Live music recital in association with Guildhall School.
URL:https://stmaryathill.org/event/live-music-series/2026-06-03/
ATTACH;FMTTYPE=image/jpeg:https://stmaryathill.org/wp-content/uploads/2025/03/Lot-10_Steinway-Sons-Grand-Piano_3.jpg
END:VEVENT
BEGIN:VEVENT
DTSTART;TZID=Europe/London:20260605T193000
DTEND;TZID=Europe/London:20260605T213000
DTSTAMP:20260423T172756
CREATED:20260415T135049Z
LAST-MODIFIED:20260415T135049Z
UID:10001933-1780687800-1780695000@stmaryathill.org
SUMMARY:Handel in London: Italian Opera and English Oratorio
DESCRIPTION:Step into the vibrant musical world of 18th-century London with a captivating evening celebrating the genius of George Frideric Handel. This special concert traces his remarkable journey – from dazzling Italian operas to powerful English oratorios – through a rich programme of arias and duets. \nJoin mezzo-sopranos Lucy and Olya Spencer\, accompanied by the Camden Philharmonia Orchestra under the baton of Liz Worth\, for an unforgettable performance filled with lyrical beauty and dramatic intensity. \nExperience beloved masterpieces including “Lascia ch’io pianga” from Rinaldo and “But who may abide” from the Messiah\, alongside hidden gems from Giulio Cesare\, Alcina\, Amadigi Gaula\, and more. The programme also features the iconic “Ombra mai fu”\, a timeless tribute to nature – perfectly complementing our charity partner\, Trees for Cities. \nThis concert is proudly held in support of Trees for Cities\, with proceeds helping to fund urban tree planting and green space initiatives – making a lasting impact on communities and the environment. \nJoin us at 7.30pm on Friday 5th June at St Mary-at-Hill church for an uplifting evening of Baroque music and to support our green future! \nBuy your tickets here: https://www.tickettailor.com/events/treesforcities1/2131637
URL:https://stmaryathill.org/event/handel-in-london-italian-opera-and-english-oratorio/
LOCATION:St Mary-at-Hill Church\, Lovat Lane\, Eastcheap\, London\, EC3R 8EE\, United Kingdom
ATTACH;FMTTYPE=image/jpeg:https://stmaryathill.org/wp-content/uploads/2026/04/663077022_26475373552099688_2695887087326543086_n.jpg
END:VEVENT
END:VCALENDAR